{
 "currentVersion": 11.5,
 "cimVersion": "3.5.0",
 "serviceDescription": " This service provides access to a raster dataset containing scanned and georeferenced black and white aerial photographs of the Atlantic coast of New Jersey. Photograph date is believed to be 1920, based upon hand-written notation on some of the storage envelopes. In addition, photo 012 shows Turtle Gut Inlet to be open, and the inlet closed naturally in 1921. Source of original images: photographic archives of the Beach Erosion Board (predecessor of the former Coastal Engineering Research Center), presently stored at the Coastal and Hydraulics Laboratory, Engineer Research and Development Center, in Vicksburg, Mississippi, USA. Original image condition: variable. These prints look like they were made quickly because many of the negatives are crooked on the photographic paper. Most are low contrast and show fading and discoloration. Printed on single-weight glossy paper. The printing date is unknown.<\/span><\/p><\/div><\/div><\/div>",
 "mapName": "Layers",
 "description": "This service provides access to a raster dataset containing scanned and georeferenced black and white aerial photographs of the Atlantic coast of New Jersey. Photograph date is believed to be 1920, based upon hand-written notation on some of the storage envelopes. In addition, photo 012 shows Turtle Gut Inlet to be open, and the inlet closed naturally in 1921. Source of original images: photographic archives of the Beach Erosion Board (predecessor of the former Coastal Engineering Research Center), presently stored at the Coastal and Hydraulics Laboratory, Engineer Research and Development Center, in Vicksburg, Mississippi, USA. Original image condition: variable. These prints look like they were made quickly because many of the negatives are crooked on the photographic paper. Most are low contrast and show fading and discoloration. Printed on single-weight glossy paper. The printing date is unknown.",
 "copyrightText": "U.S. Army Corps of Engineers, Engineer Research and Development Center, Coastal and Hydraulics Laboratory; \nNJ Department of Environmental Protection, Land Use Management Program, Division of Land Resource Protection, Bureau of Tidelands Management; \nNJ Office of Information Technology, Office of GIS (NJOGIS) (service provider)",
 "supportsDynamicLayers": false,
 "layers": [
  {
   "id": 0,
   "name": "Coastal_BW_1920_WM",
   "parentLayerId": -1,
   "defaultVisibility": true,
   "subLayerIds": null,
   "minScale": 0,
   "maxScale": 0,
   "type": "Feature Layer",
   "geometryType": "esriGeometryPolygon",
   "supportsDynamicLegends": true
  }
 ],
 "tables": [],
 "spatialReference": {
  "wkid": 102100,
  "latestWkid": 3857,
  "xyTolerance": 0.001,
  "zTolerance": 0.001,
  "mTolerance": 0.001,
  "falseX": -20037700,
  "falseY": -30241100,
  "xyUnits": 10000,
  "falseZ": -100000,
  "zUnits": 10000,
  "falseM": -100000,
  "mUnits": 10000
 },
 "singleFusedMapCache": true,
 "tileInfo": {
  "rows": 256,
  "cols": 256,
  "dpi": 96,
  "format": "PNG",
  "compressionQuality": 0,
  "origin": {
   "x": -20037700,
   "y": 30241100
  },
  "spatialReference": {
   "wkid": 102100,
   "latestWkid": 3857,
   "xyTolerance": 0.001,
   "zTolerance": 0.001,
   "mTolerance": 0.001,
   "falseX": -20037700,
   "falseY": -30241100,
   "xyUnits": 10000,
   "falseZ": -100000,
   "zUnits": 10000,
   "falseM": -100000,
   "mUnits": 10000
  },
  "lods": [
   {
    "level": 0,
    "resolution": 156543.03392800014,
    "scale": 5.91657527591555E8
   },
   {
    "level": 1,
    "resolution": 78271.51696399994,
    "scale": 2.95828763795777E8
   },
   {
    "level": 2,
    "resolution": 39135.75848200009,
    "scale": 1.47914381897889E8
   },
   {
    "level": 3,
    "resolution": 19567.87924099992,
    "scale": 7.3957190948944E7
   },
   {
    "level": 4,
    "resolution": 9783.93962049996,
    "scale": 3.6978595474472E7
   },
   {
    "level": 5,
    "resolution": 4891.96981024998,
    "scale": 1.8489297737236E7
   },
   {
    "level": 6,
    "resolution": 2445.98490512499,
    "scale": 9244648.868618
   },
   {
    "level": 7,
    "resolution": 1222.992452562495,
    "scale": 4622324.434309
   },
   {
    "level": 8,
    "resolution": 611.4962262813797,
    "scale": 2311162.217155
   },
   {
    "level": 9,
    "resolution": 305.74811314055756,
    "scale": 1155581.108577
   },
   {
    "level": 10,
    "resolution": 152.87405657041106,
    "scale": 577790.554289
   },
   {
    "level": 11,
    "resolution": 76.43702828507324,
    "scale": 288895.277144
   },
   {
    "level": 12,
    "resolution": 38.21851414253662,
    "scale": 144447.638572
   },
   {
    "level": 13,
    "resolution": 19.10925707126831,
    "scale": 72223.819286
   },
   {
    "level": 14,
    "resolution": 9.554628535634155,
    "scale": 36111.909643
   },
   {
    "level": 15,
    "resolution": 4.77731426794937,
    "scale": 18055.954822
   },
   {
    "level": 16,
    "resolution": 2.388657133974685,
    "scale": 9027.977411
   },
   {
    "level": 17,
    "resolution": 1.1943285668550503,
    "scale": 4513.988705
   },
   {
    "level": 18,
    "resolution": 0.5971642835598172,
    "scale": 2256.994353
   },
   {
    "level": 19,
    "resolution": 0.29858214164761665,
    "scale": 1128.497176
   },
   {
    "level": 20,
    "resolution": 0.14929107082380833,
    "scale": 564.248588
   },
   {
    "level": 21,
    "resolution": 0.07464553541190416,
    "scale": 282.124294
   },
   {
    "level": 22,
    "resolution": 0.03732276770595208,
    "scale": 141.062147
   },
   {
    "level": 23,
    "resolution": 0.01866138385297604,
    "scale": 70.5310735
   }
  ]
 },
 "storageInfo": {
  "storageFormat": "esriMapCacheStorageModeCompactV2",
  "packetSize": 128
 },
 "initialExtent": {
  "xmin": -8716573.23292285,
  "ymin": 4587771.7653717585,
  "xmax": -7858024.925731741,
  "ymax": 5229599.14065055,
  "spatialReference": {
   "cs": "pcs",
   "wkid": 102100
  }
 },
 "fullExtent": {
  "xmin": -8415731.9936,
  "ymin": 4696491.903800003,
  "xmax": -8221548.526900001,
  "ymax": 5069532.812200002,
  "spatialReference": {
   "cs": "pcs",
   "wkid": 102100
  }
 },
 "datesInUnknownTimezone": false,
 "minScale": 5.91657527591555E8,
 "maxScale": 70.5310735,
 "minLOD": 8,
 "maxLOD": 20,
 "units": "esriMeters",
 "supportedImageFormatTypes": "PNG32,PNG24,PNG,JPG,DIB,TIFF,EMF,PS,PDF,GIF,SVG,SVGZ,BMP",
 "documentInfo": {
  "Title": "1920 Aerial Photography of the Atlantic Coast of New Jersey (Cached Map Service - Web Mercator)",
  "Author": "",
  "Comments": "This service provides access to a raster dataset containing scanned and georeferenced black and white aerial photographs of the Atlantic coast of New Jersey. Photograph date is believed to be 1920, based upon hand-written notation on some of the storage envelopes. In addition, photo 012 shows Turtle Gut Inlet to be open, and the inlet closed naturally in 1921. Source of original images: photographic archives of the Beach Erosion Board (predecessor of the former Coastal Engineering Research Center), presently stored at the Coastal and Hydraulics Laboratory, Engineer Research and Development Center, in Vicksburg, Mississippi, USA. Original image condition: variable. These prints look like they were made quickly because many of the negatives are crooked on the photographic paper. Most are low contrast and show fading and discoloration. Printed on single-weight glossy paper. The printing date is unknown.",
  "Subject": "This cached map service (Web Mercator) makes georeferenced historical photographs available online for researchers and coastal managers to analyze shoreline change, urbanization trends, wetland loss, transportation patterns, coastal protection structures, and geomorphic changes.",
  "Category": "",
  "Version": "3.3.0",
  "AntialiasingMode": "Fast",
  "TextAntialiasingMode": "Force",
  "Keywords": "waterways,Cape May,Monmouth County,Rast_1920_img_coastal,Burlington County,NJDEP,1920,1920,riparian,tide,NJDEPTrentonMetadata,Atlantic County,aerial imagery,New Jersey,water,inlandWaters,beach,aerial photography,shoreline,shore,Atlantic Ocean,Jersey Shore,Atlantic Shore,tidelands,ocean,Cape May County,Sea Bright,Ocean County,imageryBaseMapsEarthCover"
 },
 "supportsQueryDomains": true,
 "capabilities": "Map,TileMap",
 "supportedQueryFormats": "JSON, geoJSON, PBF",
 "exportTilesAllowed": false,
 "referenceScale": 0.0,
 "datumTransformations": [
  {
   "geoTransforms": [
    {
     "wkid": 108363,
     "latestWkid": 108363,
     "transformForward": false,
     "name": "WGS_1984_(ITRF08)_To_NAD_1983_2011"
    },
    {
     "wkid": 108190,
     "latestWkid": 108190,
     "transformForward": true,
     "name": "WGS_1984_(ITRF00)_To_NAD_1983"
    }
   ]
  },
  {
   "geoTransforms": [
    {
     "wkid": 108190,
     "latestWkid": 108190,
     "transformForward": false,
     "name": "WGS_1984_(ITRF00)_To_NAD_1983"
    },
    {
     "wkid": 108363,
     "latestWkid": 108363,
     "transformForward": true,
     "name": "WGS_1984_(ITRF08)_To_NAD_1983_2011"
    }
   ]
  },
  {
   "geoTransforms": [
    {
     "wkid": 108363,
     "latestWkid": 108363,
     "transformForward": false,
     "name": "WGS_1984_(ITRF08)_To_NAD_1983_2011"
    }
   ]
  },
  {
   "geoTransforms": [
    {
     "wkid": 108363,
     "latestWkid": 108363,
     "transformForward": true,
     "name": "WGS_1984_(ITRF08)_To_NAD_1983_2011"
    }
   ]
  }
 ],
 "supportsDatumTransformation": true,
 "floorAwareMapProperties": {
  "defaultFloorFilterSettings": {
   "isEnabled": false
  }
 },
 "archivingInfo": {
  "supportsHistoricMoment": false
 },
 "supportsClipping": true,
 "supportsSpatialFilter": true,
 "supportsTimeRelation": true,
 "supportsQueryDataElements": true,
 "mapUnits": {
  "uwkid": 9001
 },
 "maxSelectionCount": 2000,
 "maxRecordCount": 2000,
 "maxImageHeight": 4096,
 "maxImageWidth": 4096,
 "supportedExtensions": ""
}
