{
 "currentVersion": 10.91,
 "serviceDescription": "NJ Highlands region basemap",
 "mapName": "Layers",
 "description": "",
 "copyrightText": "NJ Highlands Council",
 "supportsDynamicLayers": false,
 "layers": [
  {
   "id": 0,
   "name": "Highlands_NJ",
   "parentLayerId": -1,
   "defaultVisibility": true,
   "subLayerIds": [],
   "minScale": 0,
   "maxScale": 0,
   "type": "Group Layer"
  }
 ],
 "tables": [],
 "spatialReference": {
  "wkid": 102711,
  "latestWkid": 3424
 },
 "singleFusedMapCache": true,
 "tileInfo": {
  "rows": 512,
  "cols": 512,
  "dpi": 96,
  "format": "PNG",
  "compressionQuality": 0,
  "origin": {
   "x": -17954600,
   "y": 1.8705699999999993E7
  },
  "spatialReference": {
   "wkid": 102711,
   "latestWkid": 3424
  },
  "lods": [
   {
    "level": 0,
    "resolution": 2006.2172023914932,
    "scale": 2311162.217155
   },
   {
    "level": 1,
    "resolution": 1003.1086011953124,
    "scale": 1155581.108577
   },
   {
    "level": 2,
    "resolution": 501.55430059809026,
    "scale": 577790.554289
   },
   {
    "level": 3,
    "resolution": 250.7771502986111,
    "scale": 288895.277144
   },
   {
    "level": 4,
    "resolution": 125.38857514930555,
    "scale": 144447.638572
   },
   {
    "level": 5,
    "resolution": 62.694287574652776,
    "scale": 72223.819286
   },
   {
    "level": 6,
    "resolution": 31.347143787326388,
    "scale": 36111.909643
   },
   {
    "level": 7,
    "resolution": 15.673571894097222,
    "scale": 18055.954822
   },
   {
    "level": 8,
    "resolution": 7.836785947048611,
    "scale": 9027.977411
   },
   {
    "level": 9,
    "resolution": 3.9183929730902776,
    "scale": 4513.988705
   },
   {
    "level": 10,
    "resolution": 1.9591964869791667,
    "scale": 2256.994353
   },
   {
    "level": 11,
    "resolution": 0.9795982430555555,
    "scale": 1128.497176
   },
   {
    "level": 12,
    "resolution": 0.48979912152777777,
    "scale": 564.248588
   }
  ]
 },
 "initialExtent": {
  "xmin": -21807.2878936918,
  "ymin": 548194.7165556363,
  "xmax": 873588.3333698746,
  "ymax": 685173.124307993,
  "spatialReference": {
   "wkid": 102711,
   "latestWkid": 3424
  }
 },
 "fullExtent": {
  "xmin": -393461.9383394241,
  "ymin": -49575.0260989495,
  "xmax": 1245242.9838156074,
  "ymax": 976755.8378690757,
  "spatialReference": {
   "wkid": 102711,
   "latestWkid": 3424
  }
 },
 "minScale": 2311162.217155,
 "maxScale": 564.248588,
 "units": "esriFeet",
 "supportedImageFormatTypes": "PNG32,PNG24,PNG,JPG,DIB,TIFF,EMF,PS,PDF,GIF,SVG,SVGZ,BMP",
 "documentInfo": {
  "Title": "",
  "Author": "",
  "Comments": "NJ Highlands region basemap",
  "Subject": "2019 Highlands basemap",
  "Category": "",
  "AntialiasingMode": "None",
  "TextAntialiasingMode": "Force",
  "Keywords": "NJ,new jersey,highlands,basemap"
 },
 "capabilities": "Map,Query,Data",
 "supportedQueryFormats": "JSON, geoJSON",
 "exportTilesAllowed": false,
 "referenceScale": 0,
 "supportsDatumTransformation": true,
 "maxRecordCount": 1000,
 "maxImageHeight": 4096,
 "maxImageWidth": 4096,
 "supportedExtensions": ""
}
