{ "currentVersion": 11.5, "cimVersion": "3.5.0", "serviceDescription": "
The basemap provides pre-rendered symbology that incorporates basic map features to provide a background on which other data layers can be overlain. Muted grayscale symbology is used to more readily distinguish overlain features. The basemap features render in greater detail at larger scales. The service is published in WGS 1984 Web Mercator Auxiliary Sphere. Note to service users who incorporate service layer(s) into an application or published live map: The NJ Office of GIS, as basemap publisher and steward, provides early notification of changes that may affect use of the cached basemap service. To do this, we need contact name and email address for the service user, and name of the application or published live map consuming the service. Please send this information to the NJ Office of GIS at njgin@oit.nj.gov.<\/SPAN><\/P><\/DIV><\/DIV><\/DIV>",
"mapName": "Layers",
"description": "",
"copyrightText": "NJ Office of Information Technology, Office of GIS (NJOGIS)",
"supportsDynamicLayers": false,
"layers": [
{
"id": 0,
"name": "New Jersey",
"parentLayerId": -1,
"defaultVisibility": true,
"subLayerIds": [],
"minScale": 0,
"maxScale": 0,
"type": "Group Layer",
"supportsDynamicLegends": false
}
],
"tables": [],
"spatialReference": {
"wkid": 102100,
"latestWkid": 3857,
"xyTolerance": 0.001,
"zTolerance": 0.001,
"mTolerance": 0.001,
"falseX": -20037700,
"falseY": -30241100,
"xyUnits": 1.4892314192838538E8,
"falseZ": -100000,
"zUnits": 10000,
"falseM": -100000,
"mUnits": 10000
},
"singleFusedMapCache": true,
"tileInfo": {
"rows": 512,
"cols": 512,
"dpi": 96,
"format": "MIXED",
"compressionQuality": 90,
"origin": {
"x": -20037700,
"y": 30241100
},
"spatialReference": {
"wkid": 102100,
"latestWkid": 3857,
"xyTolerance": 0.001,
"zTolerance": 0.001,
"mTolerance": 0.001,
"falseX": -20037700,
"falseY": -30241100,
"xyUnits": 1.4892314192838538E8,
"falseZ": -100000,
"zUnits": 10000,
"falseM": -100000,
"mUnits": 10000
},
"lods": [
{
"level": 0,
"resolution": 611.4962262813797,
"scale": 2311162.217155
},
{
"level": 1,
"resolution": 305.74811314055756,
"scale": 1155581.108577
},
{
"level": 2,
"resolution": 152.87405657041106,
"scale": 577790.554289
},
{
"level": 3,
"resolution": 76.43702828507324,
"scale": 288895.277144
},
{
"level": 4,
"resolution": 38.21851414253662,
"scale": 144447.638572
},
{
"level": 5,
"resolution": 19.10925707126831,
"scale": 72223.819286
},
{
"level": 6,
"resolution": 9.554628535634155,
"scale": 36111.909643
},
{
"level": 7,
"resolution": 4.77731426794937,
"scale": 18055.954822
},
{
"level": 8,
"resolution": 2.388657133974685,
"scale": 9027.977411
},
{
"level": 9,
"resolution": 1.1943285668550503,
"scale": 4513.988705
},
{
"level": 10,
"resolution": 0.5971642835598172,
"scale": 2256.994353
},
{
"level": 11,
"resolution": 0.29858214164761665,
"scale": 1128.497176
},
{
"level": 12,
"resolution": 0.14929107082380833,
"scale": 564.248588
}
]
},
"storageInfo": {
"storageFormat": "esriMapCacheStorageModeCompactV2",
"packetSize": 128
},
"initialExtent": {
"xmin": -8549987.857956948,
"ymin": 4724753.688028148,
"xmax": -8060714.870639382,
"ymax": 5041271.027971857,
"spatialReference": {
"wkid": 102100,
"latestWkid": 3857,
"xyTolerance": 0.001,
"zTolerance": 0.001,
"mTolerance": 0.001,
"falseX": -20037700,
"falseY": -30241100,
"xyUnits": 1.4892314192838538E8,
"falseZ": -100000,
"zUnits": 10000,
"falseM": -100000,
"mUnits": 10000
}
},
"fullExtent": {
"xmin": -9212507.095785817,
"ymin": 4356257.52050015,
"xmax": -7450663.904253124,
"ymax": 5430515.275462558,
"spatialReference": {
"wkid": 102100,
"latestWkid": 3857,
"xyTolerance": 0.001,
"zTolerance": 0.001,
"mTolerance": 0.001,
"falseX": -20037700,
"falseY": -30241100,
"xyUnits": 1.4892314192838538E8,
"falseZ": -100000,
"zUnits": 10000,
"falseM": -100000,
"mUnits": 10000
}
},
"datesInUnknownTimezone": false,
"minScale": 2311162.217155,
"maxScale": 564.248588,
"units": "esriMeters",
"supportedImageFormatTypes": "PNG32,PNG24,PNG,JPG,DIB,TIFF,EMF,PS,PDF,GIF,SVG,SVGZ,BMP",
"documentInfo": {
"Title": "Light Gray Basemap of NJ (Web Mercator)",
"Author": "",
"Comments": " The basemap provides pre-rendered symbology that incorporates basic map features to provide a background on which other data layers can be overlain. Muted grayscale symbology is used to more readily distinguish overlain features. The basemap features render in greater detail at larger scales. The service is published in WGS 1984 Web Mercator Auxiliary Sphere. Note to service users who incorporate service layer(s) into an application or published live map: The NJ Office of GIS, as basemap publisher and steward, provides early notification of changes that may affect use of the cached basemap service. To do this, we need contact name and email address for the service user, and name of the application or published live map consuming the service. Please send this information to the NJ Office of GIS at njgin@oit.nj.gov.<\/SPAN><\/P><\/DIV><\/DIV><\/DIV>",
"Subject": "Light gray cached basemap of NJ in Web Mercator projection.",
"Category": "",
"Version": "10.1",
"AntialiasingMode": "None",
"TextAntialiasingMode": "Force",
"Keywords": "New Jersey,NJ,basemap"
},
"supportsQueryDomains": true,
"capabilities": "Map,Query,Data",
"supportedQueryFormats": "JSON, geoJSON, PBF",
"exportTilesAllowed": false,
"referenceScale": 0.0,
"supportsDatumTransformation": true,
"archivingInfo": {"supportsHistoricMoment": false},
"supportsClipping": true,
"supportsSpatialFilter": true,
"supportsTimeRelation": true,
"supportsQueryDataElements": true,
"mapUnits": {"uwkid": 9001},
"maxSelectionCount": 2000,
"maxRecordCount": 1000,
"maxImageHeight": 4096,
"maxImageWidth": 4096,
"supportedExtensions": "",
"resampling": false
}