{ "currentVersion": 10.91, "serviceDescription": "
Digital orthophotography of New Jersey, distributed as an ArcGIS REST cached tile service [https://maps.nj.gov/arcgis/rest/services/Basemap/Orthos_Natural_2012_NJ/MapServer/] and as a Tiled Web Map Service (WMTS) [https://maps.nj.gov/arcgis/rest/services/Basemap/Orthos_Natural_2012_NJ/MapServer/WMTS/tile/1.0.0/Basemap_Orthos_Natural_2012_NJ]. These services display the three natural color bands from the 4-band project. <\/span><\/p> The native data set spatial reference system is EPSG::3424 State Plane Coordinate System NAD83 Coordinates, U.S. Survey Feet. The cache processing has produced continuous tiles in EPSG::3857 WGS84 Web Mercator (auxiliary sphere) coordinates, meters. <\/span><\/p> Multi-spectral digital orthophotography was produced at a scale of 1:2400 (1\" = 200') with a 1 foot pixel resolution for the entire state, totaling approximately 8,162 square miles.<\/span><\/p> Digital orthophotography combines the image characteristics of a photograph with the geometric qualities of a map. Each digitized perspective aerial photograph is rectified for camera lens distortion, vertical displacement caused by terrain relief and variations in aircraft altitude and orientation.<\/span><\/p><\/div><\/div><\/div>",
"mapName": "Layers",
"description": "",
"copyrightText": "Photo Science, Inc. was the operating contractor. Contract, procurement, and Quality Assurance by U.S. Geological Survey. Funding obtained by NJ Office of Information Technology, Office of Geographic Information Systems, from the following: -NJ State Police, Office of Emergency Management (NJSP, OEM) -National Geospatial-Intelligence Agency (NGA) via U.S. Geological Survey -NJ Department of Environmental Protection (NJDEP)-NJ Department of Transportation (NJDOT) -NJ Transit -NJ Office of Homeland Security and Preparedness (OHSP) -NJ Department of Military and Veterans Affairs (DMAVA) -US Army Corps of Engineers Processing for the WMTS was done by NJDEP.",
"supportsDynamicLayers": false,
"layers": [
{
"id": 0,
"name": "New Jersey",
"parentLayerId": -1,
"defaultVisibility": true,
"subLayerIds": [],
"minScale": 0,
"maxScale": 0,
"type": "Group Layer"
}
],
"tables": [],
"spatialReference": {
"wkid": 102100,
"latestWkid": 3857
},
"singleFusedMapCache": true,
"tileInfo": {
"rows": 256,
"cols": 256,
"dpi": 96,
"format": "MIXED",
"compressionQuality": 75,
"origin": {
"x": -2.0037508342787E7,
"y": 2.0037508342787E7
},
"spatialReference": {
"wkid": 102100,
"latestWkid": 3857
},
"lods": [
{
"level": 0,
"resolution": 156543.03392800014,
"scale": 5.91657527591555E8
},
{
"level": 1,
"resolution": 78271.51696399994,
"scale": 2.95828763795777E8
},
{
"level": 2,
"resolution": 39135.75848200009,
"scale": 1.47914381897889E8
},
{
"level": 3,
"resolution": 19567.87924099992,
"scale": 7.3957190948944E7
},
{
"level": 4,
"resolution": 9783.93962049996,
"scale": 3.6978595474472E7
},
{
"level": 5,
"resolution": 4891.96981024998,
"scale": 1.8489297737236E7
},
{
"level": 6,
"resolution": 2445.98490512499,
"scale": 9244648.868618
},
{
"level": 7,
"resolution": 1222.992452562495,
"scale": 4622324.434309
},
{
"level": 8,
"resolution": 611.4962262813797,
"scale": 2311162.217155
},
{
"level": 9,
"resolution": 305.74811314055756,
"scale": 1155581.108577
},
{
"level": 10,
"resolution": 152.87405657041106,
"scale": 577790.554289
},
{
"level": 11,
"resolution": 76.43702828507324,
"scale": 288895.277144
},
{
"level": 12,
"resolution": 38.21851414253662,
"scale": 144447.638572
},
{
"level": 13,
"resolution": 19.10925707126831,
"scale": 72223.819286
},
{
"level": 14,
"resolution": 9.554628535634155,
"scale": 36111.909643
},
{
"level": 15,
"resolution": 4.77731426794937,
"scale": 18055.954822
},
{
"level": 16,
"resolution": 2.388657133974685,
"scale": 9027.977411
},
{
"level": 17,
"resolution": 1.1943285668550503,
"scale": 4513.988705
},
{
"level": 18,
"resolution": 0.5971642835598172,
"scale": 2256.994353
},
{
"level": 19,
"resolution": 0.29858214164761665,
"scale": 1128.497176
}
]
},
"initialExtent": {
"xmin": -8497637.661783053,
"ymin": 4916838.638604674,
"xmax": -8139642.858716948,
"ymax": 4971604.997678903,
"spatialReference": {
"wkid": 102100,
"latestWkid": 3857
}
},
"fullExtent": {
"xmin": -8647842.455420462,
"ymin": 4677839.858380003,
"xmax": -7989438.06507954,
"ymax": 5088184.857620003,
"spatialReference": {
"wkid": 102100,
"latestWkid": 3857
}
},
"minScale": 5.91657527591555E8,
"maxScale": 1128.497176,
"units": "esriMeters",
"supportedImageFormatTypes": "PNG32,PNG24,PNG,JPG,DIB,TIFF,EMF,PS,PDF,GIF,SVG,SVGZ,BMP",
"documentInfo": {
"Title": "",
"Author": "",
"Comments": "",
"Subject": "2012 Natural Color aerial imagery of New Jersey",
"Category": "",
"AntialiasingMode": "None",
"TextAntialiasingMode": "Force",
"Keywords": "imageryBaseMapsEarthCover,image map,rectified photograph,orthoimage,orthophoto,rectified image,aerial photograph,remote sensing,digital orthoimagery,digital orthophotography,land base,WMTS,New Jersey,NJ,United States of America,USA,US,Bergen County,B"
},
"capabilities": "Map,Query,Data",
"supportedQueryFormats": "JSON, geoJSON",
"exportTilesAllowed": false,
"referenceScale": 0,
"supportsDatumTransformation": true,
"maxRecordCount": 1000,
"maxImageHeight": 4096,
"maxImageWidth": 4096,
"supportedExtensions": ""
}