{ "currentVersion": 11.5, "cimVersion": "3.5.0", "serviceDescription": "
Digital orthophotography of New Jersey, distributed as an ArcGIS REST cached tile service [https://maps.nj.gov/arcgis/rest/services/Basemap/Orthos_Natural_2015_NJ/MapServer/] and as a Tiled Web Map Service (WMTS) [https://maps.nj.gov/arcgis/rest/services/Basemap/Orthos_Natural_2015_NJ/MapServer/WMTS/tile/1.0.0/Basemap_Orthos_Natural_2015_NJ]. These services display the three natural color bands from the 4-band project. <\/span><\/p> The native data set spatial reference system is EPSG::6527 NAD83(2011) NJ State Plane coordinates, US Survey feet (Transverse Mercator projection). The cache processing has produced continuous tiles in EPSG::3857 WGS84 Web Mercator (auxiliary sphere) coordinates, meters. <\/span><\/p> Multi-spectral digital orthophotography was produced at a nominal scale of 1:2400 (1\" = 200') with a 1 foot pixel resolution for the entire state, totalling approximately 8,162 square miles. <\/span><\/p> Digital orthophotography combines the image characteristics of a photograph with the geometric qualities of a map. Each digitized perspective aerial photograph is rectified for camera lense distortion, vertical displacement caused by terrain relief, and variations in aircraft altitude and orientation.<\/span><\/p><\/div><\/div><\/div>",
"mapName": "Layers",
"description": "",
"copyrightText": "Project definition, funding requests, and data distribution by NJ Office of Information Technology, Office of Geographic Information Systems (NJOIT - OGIS). Funding for the imagery project provided by: -NJ Office of Information Technology (NJOIT) -NJ Department of Transportation (NJDOT) -Delaware Valley Regional Planning Commission (DVRPC) -NJ TRANSIT -National Geospatial-Intelligence Agency (NGA) -Mercer County -NJ Department of Military and Veterans Affairs (DMAVA). Imagery project administration support provided by NJ Department of Environmental Protection (NJDEP). Contract and procurement by U.S. Geological Survey. Principal operating contractor was Quantum Spatial, Inc. Quality Assurance by Woolpert, Inc, under contract to U.S.G.S. Processing for the WMTS was done by NJOIT - OGIS.",
"supportsDynamicLayers": false,
"layers": [
{
"id": 0,
"name": "Natural_Color_2015",
"parentLayerId": -1,
"defaultVisibility": true,
"subLayerIds": [],
"minScale": 0,
"maxScale": 0,
"type": "Group Layer",
"supportsDynamicLegends": false
}
],
"tables": [],
"spatialReference": {
"wkid": 102100,
"latestWkid": 3857,
"xyTolerance": 0.001,
"zTolerance": 0.001,
"mTolerance": 0.001,
"falseX": -20037700,
"falseY": -30241100,
"xyUnits": 1.4892314192838538E8,
"falseZ": -100000,
"zUnits": 10000,
"falseM": -100000,
"mUnits": 10000
},
"singleFusedMapCache": true,
"tileInfo": {
"rows": 256,
"cols": 256,
"dpi": 96,
"format": "MIXED",
"compressionQuality": 75,
"origin": {
"x": -2.0037508342787E7,
"y": 2.0037508342787E7
},
"spatialReference": {
"wkid": 102100,
"latestWkid": 3857,
"xyTolerance": 0.001,
"zTolerance": 0.001,
"mTolerance": 0.001,
"falseX": -20037700,
"falseY": -30241100,
"xyUnits": 1.4892314192838538E8,
"falseZ": -100000,
"zUnits": 10000,
"falseM": -100000,
"mUnits": 10000
},
"lods": [
{
"level": 0,
"resolution": 156543.03392800014,
"scale": 5.91657527591555E8
},
{
"level": 1,
"resolution": 78271.51696399994,
"scale": 2.95828763795777E8
},
{
"level": 2,
"resolution": 39135.75848200009,
"scale": 1.47914381897889E8
},
{
"level": 3,
"resolution": 19567.87924099992,
"scale": 7.3957190948944E7
},
{
"level": 4,
"resolution": 9783.93962049996,
"scale": 3.6978595474472E7
},
{
"level": 5,
"resolution": 4891.96981024998,
"scale": 1.8489297737236E7
},
{
"level": 6,
"resolution": 2445.98490512499,
"scale": 9244648.868618
},
{
"level": 7,
"resolution": 1222.992452562495,
"scale": 4622324.434309
},
{
"level": 8,
"resolution": 611.4962262813797,
"scale": 2311162.217155
},
{
"level": 9,
"resolution": 305.74811314055756,
"scale": 1155581.108577
},
{
"level": 10,
"resolution": 152.87405657041106,
"scale": 577790.554289
},
{
"level": 11,
"resolution": 76.43702828507324,
"scale": 288895.277144
},
{
"level": 12,
"resolution": 38.21851414253662,
"scale": 144447.638572
},
{
"level": 13,
"resolution": 19.10925707126831,
"scale": 72223.819286
},
{
"level": 14,
"resolution": 9.554628535634155,
"scale": 36111.909643
},
{
"level": 15,
"resolution": 4.77731426794937,
"scale": 18055.954822
},
{
"level": 16,
"resolution": 2.388657133974685,
"scale": 9027.977411
},
{
"level": 17,
"resolution": 1.1943285668550503,
"scale": 4513.988705
},
{
"level": 18,
"resolution": 0.5971642835598172,
"scale": 2256.994353
},
{
"level": 19,
"resolution": 0.29858214164761665,
"scale": 1128.497176
},
{
"level": 20,
"resolution": 0.1492910708899543,
"scale": 564.24858825
}
]
},
"storageInfo": {
"storageFormat": "esriMapCacheStorageModeCompactV2",
"packetSize": 128
},
"initialExtent": {
"xmin": -8663798.682011904,
"ymin": 4646898.764000999,
"xmax": -7933829.173847044,
"ymax": 5119125.951999007,
"spatialReference": {
"cs": "pcs",
"wkid": 102100
}
},
"fullExtent": {
"xmin": -8682423.418434218,
"ymin": 4677839.858380003,
"xmax": -7954857.102065785,
"ymax": 5088184.857620003,
"spatialReference": {
"cs": "pcs",
"wkid": 102100
}
},
"datesInUnknownTimezone": false,
"minScale": 5.91657527591555E8,
"maxScale": 564.24858825,
"units": "esriMeters",
"supportedImageFormatTypes": "PNG32,PNG24,PNG,JPG,DIB,TIFF,EMF,PS,PDF,GIF,SVG,SVGZ,BMP",
"documentInfo": {
"Title": "NJ 2015 Natural Color Orthophoto Cached Tile Base Map Service, 1 foot (Web Mercator)",
"Author": "",
"Comments": " Digital orthophotography of New Jersey, distributed as an ArcGIS REST cached tile service [https://maps.nj.gov/arcgis/rest/services/Basemap/Orthos_Natural_2015_NJ/MapServer/] and as a Tiled Web Map Service (WMTS) [https://maps.nj.gov/arcgis/rest/services/Basemap/Orthos_Natural_2015_NJ/MapServer/WMTS/tile/1.0.0/Basemap_Orthos_Natural_2015_NJ]. These services display the three natural color bands from the 4-band project. <\/span><\/p> The native data set spatial reference system is EPSG::6527 NAD83(2011) NJ State Plane coordinates, US Survey feet (Transverse Mercator projection). The cache processing has produced continuous tiles in EPSG::3857 WGS84 Web Mercator (auxiliary sphere) coordinates, meters. <\/span><\/p> Multi-spectral digital orthophotography was produced at a nominal scale of 1:2400 (1\" = 200') with a 1 foot pixel resolution for the entire state, totalling approximately 8,162 square miles. <\/span><\/p> Digital orthophotography combines the image characteristics of a photograph with the geometric qualities of a map. Each digitized perspective aerial photograph is rectified for camera lense distortion, vertical displacement caused by terrain relief, and variations in aircraft altitude and orientation.<\/span><\/p><\/div><\/div><\/div>",
"Subject": "This is the preferred general-use live public access method for 2015 statewide orthophotography published by NJOIT - OGIS. The ArcGIS REST cached tile service and the WMTS are more responsive than the equivalent WMS. However they are slighly less accurate, and display is optimal only at fixed scales. The imagery has been resampled during caching.",
"Category": "",
"Version": "10.1",
"AntialiasingMode": "None",
"TextAntialiasingMode": "Force",
"Keywords": "imageryBaseMapsEarthCover,image map,rectified photograph,orthoimage,orthophoto,rectified image,aerial photograph,remote sensing,digital orthoimagery,digital orthophotography,land base,WMTS,New Jersey,NJ,United States of America,USA,US,Bergen County,Burlington County,East Coast,Cumberland County,Union County,Somerset County,Gloucester County,Warren County,Sussex County,Monmouth County,Mid Atlantic,Middlesex County,Essex County,Ocean County,Salem County,Mercer County,Camden County,Cape May County,Passaic County,Atlantic County,Morris County,Hudson County,Hunterdon County"
},
"supportsQueryDomains": true,
"capabilities": "Map,Query,Data",
"supportedQueryFormats": "JSON, geoJSON, PBF",
"exportTilesAllowed": false,
"referenceScale": 0.0,
"supportsDatumTransformation": true,
"archivingInfo": {"supportsHistoricMoment": false},
"supportsClipping": true,
"supportsSpatialFilter": true,
"supportsTimeRelation": true,
"supportsQueryDataElements": true,
"mapUnits": {"uwkid": 9001},
"maxSelectionCount": 2000,
"maxRecordCount": 1000,
"maxImageHeight": 4096,
"maxImageWidth": 4096,
"supportedExtensions": "",
"resampling": false
}