{ "currentVersion": 11.5, "cimVersion": "3.5.0", "serviceDescription": "
Digital orthophotography of New Jersey, distributed as an ArcGIS REST cached tile service [https://maps.nj.gov/arcgis/rest/services/Basemap/Orthos_Natural_2020_NJ/MapServer/] and as a Tiled Web Map Service (WMTS) [https://maps.nj.gov/arcgis/rest/services/Basemap/Orthos_Natural_2020_NJ_WM/MapServer/WMTS/tile/1.0.0/Basemap_Orthos_Natural_2020_NJ_WM]. These services display the three natural color bands from the 4-band project.The native data set spatial reference system is EPSG::6527 NAD83 (2011) NJ State Plane coordinates, US Survey feet (Transverse Mercator projection). The cache processing has produced continuous tiles in EPSG::3857 WGS84 Web Mercator (auxiliary sphere) coordinates, meters. Multi-spectral digital orthophotography was produced with a 1 foot pixel resolution for the entire state, totaling 8,251 square miles.Digital orthophotography combines the image characteristics of a photograph with the geometric qualities of a map. Each digitized perspective aerial photograph is rectified for camera lens distortion, vertical displacement caused by terrain relief, and variations in aircraft altitude and orientation.<\/span><\/p><\/div><\/div>",
"mapName": "Layers",
"description": " Digital orthophotography of New Jersey, distributed as an ArcGIS REST cached tile service [https://maps.nj.gov/arcgis/rest/services/Basemap/Orthos_Natural_2020_NJ/MapServer/] and as a Tiled Web Map Service (WMTS) [https://maps.nj.gov/arcgis/rest/services/Basemap/Orthos_Natural_2020_NJ_WM/MapServer/WMTS/tile/1.0.0/Basemap_Orthos_Natural_2020_NJ_WM]. These services display the three natural color bands from the 4-band project.The native data set spatial reference system is EPSG::6527 NAD83 (2011) NJ State Plane coordinates, US Survey feet (Transverse Mercator projection). The cache processing has produced continuous tiles in EPSG::3857 WGS84 Web Mercator (auxiliary sphere) coordinates, meters. Multi-spectral digital orthophotography was produced with a 1 foot pixel resolution for the entire state, totaling 8,251 square miles.Digital orthophotography combines the image characteristics of a photograph with the geometric qualities of a map. Each digitized perspective aerial photograph is rectified for camera lens distortion, vertical displacement caused by terrain relief, and variations in aircraft altitude and orientation.<\/SPAN><\/P><\/DIV><\/DIV>",
"copyrightText": "Project definition, funding requests, and data distribution by NJ Office of Information Technology, Office of GIS.Funding provided by: -NJ Department of Environmental Protection-NJ Office of Information Technology-NJ Department of Military and Veterans Affairs-NJ Office of Homeland Security and Preparedness-NJ Department of TransportationProject administration support provided by NJ Department of Environmental Protection.Contract and procurement by US Geological Survey.Principal operating contractor was Quantum Spatial, Inc. Quality Assurance by Woolpert, Inc, under contract to US Geological Survey.",
"supportsDynamicLayers": false,
"layers": [
{
"id": 0,
"name": "Natural_Color_2020",
"parentLayerId": -1,
"defaultVisibility": true,
"subLayerIds": null,
"minScale": 0,
"maxScale": 0,
"type": "Feature Layer",
"geometryType": "esriGeometryPolygon",
"supportsDynamicLegends": true
}
],
"tables": [],
"spatialReference": {
"wkid": 102100,
"latestWkid": 3857,
"xyTolerance": 0.001,
"zTolerance": 0.001,
"mTolerance": 0.001,
"falseX": -20037700,
"falseY": -30241100,
"xyUnits": 10000,
"falseZ": -100000,
"zUnits": 10000,
"falseM": -100000,
"mUnits": 10000
},
"singleFusedMapCache": true,
"tileInfo": {
"rows": 256,
"cols": 256,
"dpi": 96,
"format": "Mixed",
"compressionQuality": 75,
"origin": {
"x": -2.0037508342787E7,
"y": 2.0037508342787E7
},
"spatialReference": {
"wkid": 102100,
"latestWkid": 3857,
"xyTolerance": 0.001,
"zTolerance": 0.001,
"mTolerance": 0.001,
"falseX": -20037700,
"falseY": -30241100,
"xyUnits": 10000,
"falseZ": -100000,
"zUnits": 10000,
"falseM": -100000,
"mUnits": 10000
},
"lods": [
{
"level": 0,
"resolution": 156543.033928,
"scale": 5.91657527591555E8
},
{
"level": 1,
"resolution": 78271.5169639999,
"scale": 2.95828763795777E8
},
{
"level": 2,
"resolution": 39135.7584820001,
"scale": 1.47914381897889E8
},
{
"level": 3,
"resolution": 19567.8792409999,
"scale": 7.3957190948944E7
},
{
"level": 4,
"resolution": 9783.93962049996,
"scale": 3.6978595474472E7
},
{
"level": 5,
"resolution": 4891.96981024998,
"scale": 1.8489297737236E7
},
{
"level": 6,
"resolution": 2445.98490512499,
"scale": 9244648.868618
},
{
"level": 7,
"resolution": 1222.99245256249,
"scale": 4622324.434309
},
{
"level": 8,
"resolution": 611.49622628138,
"scale": 2311162.217155
},
{
"level": 9,
"resolution": 305.748113140558,
"scale": 1155581.108577
},
{
"level": 10,
"resolution": 152.874056570411,
"scale": 577790.554289
},
{
"level": 11,
"resolution": 76.4370282850732,
"scale": 288895.277144
},
{
"level": 12,
"resolution": 38.2185141425366,
"scale": 144447.638572
},
{
"level": 13,
"resolution": 19.1092570712683,
"scale": 72223.819286
},
{
"level": 14,
"resolution": 9.55462853563415,
"scale": 36111.909643
},
{
"level": 15,
"resolution": 4.77731426794937,
"scale": 18055.954822
},
{
"level": 16,
"resolution": 2.38865713397468,
"scale": 9027.977411
},
{
"level": 17,
"resolution": 1.19432856685505,
"scale": 4513.988705
},
{
"level": 18,
"resolution": 0.597164283559817,
"scale": 2256.994353
},
{
"level": 19,
"resolution": 0.298582141647617,
"scale": 1128.497176
},
{
"level": 20,
"resolution": 0.14929107082380833,
"scale": 564.248588
},
{
"level": 21,
"resolution": 0.07464553541190416,
"scale": 282.124294
},
{
"level": 22,
"resolution": 0.03732276770595208,
"scale": 141.062147
},
{
"level": 23,
"resolution": 0.01866138385297604,
"scale": 70.5310735
}
]
},
"storageInfo": {
"storageFormat": "esriMapCacheStorageModeCompactV2",
"packetSize": 128
},
"initialExtent": {
"xmin": -8628997.696345875,
"ymin": 4677839.858380003,
"xmax": -8008282.8241541255,
"ymax": 5088184.857620003,
"spatialReference": {
"cs": "pcs",
"wkid": 102100
}
},
"fullExtent": {
"xmin": -8415731.9936,
"ymin": 4696491.903800003,
"xmax": -8221548.526900001,
"ymax": 5069532.812200002,
"spatialReference": {
"cs": "pcs",
"wkid": 102100
}
},
"datesInUnknownTimezone": false,
"minScale": 5.91657527591555E8,
"maxScale": 70.5310735,
"units": "esriMeters",
"supportedImageFormatTypes": "PNG32,PNG24,PNG,JPG,DIB,TIFF,EMF,PS,PDF,GIF,SVG,SVGZ,BMP",
"documentInfo": {
"Title": "NJ 2020 Natural Color Orthophoto Cached Tile Base Map Service, 1 foot (Web Mercator)",
"Author": "",
"Comments": " Digital orthophotography of New Jersey, distributed as an ArcGIS REST cached tile service [https://maps.nj.gov/arcgis/rest/services/Basemap/Orthos_Natural_2020_NJ/MapServer/] and as a Tiled Web Map Service (WMTS) [https://maps.nj.gov/arcgis/rest/services/Basemap/Orthos_Natural_2020_NJ_WM/MapServer/WMTS/tile/1.0.0/Basemap_Orthos_Natural_2020_NJ_WM]. These services display the three natural color bands from the 4-band project.The native data set spatial reference system is EPSG::6527 NAD83 (2011) NJ State Plane coordinates, US Survey feet (Transverse Mercator projection). The cache processing has produced continuous tiles in EPSG::3857 WGS84 Web Mercator (auxiliary sphere) coordinates, meters. Multi-spectral digital orthophotography was produced with a 1 foot pixel resolution for the entire state, totaling 8,251 square miles.Digital orthophotography combines the image characteristics of a photograph with the geometric qualities of a map. Each digitized perspective aerial photograph is rectified for camera lens distortion, vertical displacement caused by terrain relief, and variations in aircraft altitude and orientation.<\/SPAN><\/P><\/DIV><\/DIV>",
"Subject": "This is the preferred general-use live public access method for 2020 statewide orthophotography published by NJOIT - OGIS. The ArcGIS REST cached tile service and the WMTS are more responsive than the equivalent WMS. However they are slightly less accurate, and display is optimal only at fixed scales. The imagery has been resampled during caching.",
"Category": "",
"Version": "2.4.0",
"AntialiasingMode": "Fast",
"TextAntialiasingMode": "Force",
"Keywords": "2020,WMS,12 inch orthoimage,rectified photograph,rectified image,orthophoto,natural color orthophoto,orthoimage,image map,aerial photograph,remote sensing,1 foot,aerial photography,digital orthophotography,digital orthoimagery,digital land base,imageryBaseMapsEarthCover,New Jersey,NJ,United States of America,USA,US,Bergen County,Burlington County,East Coast,Cumberland County,Union County,Somerset County,Gloucester County,Warren County,Sussex County,Monmouth County,Mid Atlantic,Middlesex County,Essex County,Ocean County,Salem County,Mercer County,Camden County,Cape May County,Passaic County,Atlantic County,Morris County,Hudson County,Hunterdon County"
},
"supportsQueryDomains": true,
"capabilities": "Map",
"supportedQueryFormats": "JSON, geoJSON, PBF",
"exportTilesAllowed": false,
"referenceScale": 0.0,
"supportsDatumTransformation": true,
"archivingInfo": {"supportsHistoricMoment": false},
"supportsClipping": true,
"supportsSpatialFilter": true,
"supportsTimeRelation": true,
"supportsQueryDataElements": true,
"mapUnits": {"uwkid": 9001},
"maxSelectionCount": 2000,
"maxRecordCount": 2000,
"maxImageHeight": 4096,
"maxImageWidth": 4096,
"supportedExtensions": "",
"resampling": false
}