{ "currentVersion": 11.5, "cimVersion": "3.5.0", "serviceDescription": "
This map service was created to give geospatial data users the ability to add parcels data to maps without the need to download the dataset onto their own computers, and provide easy display of basic information of property locations at multiple scales. The statewide tax block layer and edge-matched parcels layer, with attributes from the MOD-IV property tax system, are included in this map service. The service is published in WGS 1984 Web Mercator Auxiliary Sphere. Note to service users who incorporate service layer(s) into an application or published live map: The NJ Office of GIS, as basemap publisher and steward, provides early notification of changes that may affect use of the cached basemap service. Please sign up for the <\/span>NJ Geospatial Forum discussion listserv<\/span><\/a> to receive service notifications.<\/span><\/p><\/div><\/div><\/div>",
"mapName": "Layers",
"description": " This map service was created to give geospatial data users the ability to add parcels data to maps without the need to download the dataset onto their own computers, and provide easy display of basic information of property locations at multiple scales. The statewide tax block layer and edge-matched parcels layer, with attributes from the MOD-IV property tax system, are included in this map service. The service is published in WGS 1984 Web Mercator Auxiliary Sphere. Note to service users who incorporate service layer(s) into an application or published live map: The NJ Office of GIS, as basemap publisher and steward, provides early notification of changes that may affect use of the cached basemap service. Please sign up for the <\/SPAN>NJ Geospatial Forum discussion listserv<\/SPAN><\/A> to receive service notifications.<\/SPAN><\/P><\/DIV><\/DIV><\/DIV>",
"copyrightText": "NJ Office of Information Technology, Office of GIS (NJOGIS)",
"supportsDynamicLayers": false,
"layers": [
{
"id": 0,
"name": "Parcels",
"parentLayerId": -1,
"defaultVisibility": true,
"subLayerIds": null,
"minScale": 0,
"maxScale": 0,
"type": "Feature Layer",
"geometryType": "esriGeometryPolygon",
"supportsDynamicLegends": true
}
],
"tables": [],
"spatialReference": {
"wkid": 102100,
"latestWkid": 3857,
"xyTolerance": 0.001,
"zTolerance": 0.001,
"mTolerance": 0.001,
"falseX": -20037700,
"falseY": -30241100,
"xyUnits": 10000,
"falseZ": -100000,
"zUnits": 10000,
"falseM": -100000,
"mUnits": 10000
},
"singleFusedMapCache": true,
"tileInfo": {
"rows": 512,
"cols": 512,
"dpi": 96,
"format": "MIXED",
"compressionQuality": 90,
"origin": {
"x": -20037700,
"y": 30241100
},
"spatialReference": {
"wkid": 102100,
"latestWkid": 3857,
"xyTolerance": 0.001,
"zTolerance": 0.001,
"mTolerance": 0.001,
"falseX": -20037700,
"falseY": -30241100,
"xyUnits": 1.4892314192838538E8,
"falseZ": -100000,
"zUnits": 10000,
"falseM": -100000,
"mUnits": 10000
},
"lods": [
{
"level": 0,
"resolution": 611.4962262813797,
"scale": 2311162.217155
},
{
"level": 1,
"resolution": 305.74811314055756,
"scale": 1155581.108577
},
{
"level": 2,
"resolution": 152.87405657041106,
"scale": 577790.554289
},
{
"level": 3,
"resolution": 76.43702828507324,
"scale": 288895.277144
},
{
"level": 4,
"resolution": 38.21851414253662,
"scale": 144447.638572
},
{
"level": 5,
"resolution": 19.10925707126831,
"scale": 72223.819286
},
{
"level": 6,
"resolution": 9.554628535634155,
"scale": 36111.909643
},
{
"level": 7,
"resolution": 4.77731426794937,
"scale": 18055.954822
},
{
"level": 8,
"resolution": 2.388657133974685,
"scale": 9027.977411
},
{
"level": 9,
"resolution": 1.1943285668550503,
"scale": 4513.988705
},
{
"level": 10,
"resolution": 0.5971642835598172,
"scale": 2256.994353
},
{
"level": 11,
"resolution": 0.29858214164761665,
"scale": 1128.497176
},
{
"level": 12,
"resolution": 0.14929107082380833,
"scale": 564.248588
}
]
},
"storageInfo": {
"storageFormat": "esriMapCacheStorageModeCompactV2",
"packetSize": 128
},
"initialExtent": {
"xmin": -8602738.705207285,
"ymin": 4695954.160086121,
"xmax": -8037599.392792917,
"ymax": 5069559.016538683,
"spatialReference": {
"cs": "pcs",
"wkid": 102100
}
},
"fullExtent": {
"xmin": -8419212.342208508,
"ymin": 4695954.160086122,
"xmax": -8221125.755791693,
"ymax": 5069559.016538683,
"spatialReference": {
"cs": "pcs",
"wkid": 102100
}
},
"datesInUnknownTimezone": false,
"minScale": 2311162.217155,
"maxScale": 564.248588,
"units": "esriMeters",
"supportedImageFormatTypes": "PNG32,PNG24,PNG,JPG,DIB,TIFF,EMF,PS,PDF,GIF,SVG,SVGZ,BMP",
"documentInfo": {
"Title": "Parcels Composite of NJ Basemap (Web Mercator)",
"Author": "",
"Comments": " This map service was created to give geospatial data users the ability to add parcels data to maps without the need to download the dataset onto their own computers, and provide easy display of basic information of property locations at multiple scales. The statewide tax block layer and edge-matched parcels layer, with attributes from the MOD-IV property tax system, are included in this map service. The service is published in WGS 1984 Web Mercator Auxiliary Sphere. Note to service users who incorporate service layer(s) into an application or published live map: The NJ Office of GIS, as basemap publisher and steward, provides early notification of changes that may affect use of the cached basemap service. Please sign up for the <\/SPAN>NJ Geospatial Forum discussion listserv<\/SPAN><\/A> to receive service notifications.<\/SPAN><\/P><\/DIV><\/DIV><\/DIV>",
"Subject": "Property boundaries of NJ as a cached basemap.",
"Category": "",
"Version": "2.4.0",
"AntialiasingMode": "Fast",
"TextAntialiasingMode": "Force",
"Keywords": "New Jersey,NJ,cadastral,parcels,lots,blocks,property,MOD-IV,MOD4,basemap"
},
"supportsQueryDomains": true,
"capabilities": "Map",
"supportedQueryFormats": "JSON, geoJSON, PBF",
"exportTilesAllowed": false,
"referenceScale": 0.0,
"datumTransformations": [
{
"geoTransforms": [
{
"wkid": 108190,
"latestWkid": 108190,
"transformForward": true,
"name": "WGS_1984_(ITRF00)_To_NAD_1983"
}
]
},
{
"geoTransforms": [
{
"wkid": 108190,
"latestWkid": 108190,
"transformForward": false,
"name": "WGS_1984_(ITRF00)_To_NAD_1983"
}
]
}
],
"supportsDatumTransformation": true,
"archivingInfo": {"supportsHistoricMoment": false},
"supportsClipping": true,
"supportsSpatialFilter": true,
"supportsTimeRelation": true,
"supportsQueryDataElements": true,
"mapUnits": {"uwkid": 9001},
"maxSelectionCount": 2000,
"maxRecordCount": 2000,
"maxImageHeight": 4096,
"maxImageWidth": 4096,
"supportedExtensions": "",
"resampling": false
}