{ "currentVersion": 11.5, "cimVersion": "3.5.0", "serviceDescription": "
This basemap contains the comprehensive statewide road centerlines dataset to serve the needs of the entire New Jersey GIS user community. Features are symbolized by route type with route numbers and road name labels. The service is published in NJ State Plane coordinates, NAD83, US Survey feet. Note to service users who incorporate service layer(s) into an application or published live map: The NJ Office of GIS, as basemap publisher and steward, provides early notification of changes that may affect use of the cached basemap service. To do this, we need contact name and email address for the service user, and name of the application or published live map consuming the service. Please send this information to the NJ Office of GIS at njgin@oit.nj.gov.<\/SPAN><\/P><\/DIV><\/DIV><\/DIV>",
"mapName": "Layers",
"description": "",
"copyrightText": "NJ Office of Information Technology, Office of GIS (NJOGIS)",
"supportsDynamicLayers": false,
"layers": [
{
"id": 0,
"name": "NJ_Roads",
"parentLayerId": -1,
"defaultVisibility": true,
"subLayerIds": [],
"minScale": 0,
"maxScale": 0,
"type": "Group Layer",
"supportsDynamicLegends": false
}
],
"tables": [],
"spatialReference": {
"wkid": 102711,
"latestWkid": 3424,
"xyTolerance": 0.00328083333333333,
"zTolerance": 0.001,
"mTolerance": 0.001,
"falseX": -17954600,
"falseY": -46918100,
"xyUnits": 1.3725506987923574E8,
"falseZ": -100000,
"zUnits": 10000,
"falseM": -100000,
"mUnits": 10000
},
"singleFusedMapCache": true,
"tileInfo": {
"rows": 512,
"cols": 512,
"dpi": 96,
"format": "MIXED",
"compressionQuality": 90,
"origin": {
"x": -842000,
"y": 1440000
},
"spatialReference": {
"wkid": 102711,
"latestWkid": 3424,
"xyTolerance": 0.00328083333333333,
"zTolerance": 0.001,
"mTolerance": 0.001,
"falseX": -17954600,
"falseY": -46918100,
"xyUnits": 1.3725506987923574E8,
"falseZ": -100000,
"zUnits": 10000,
"falseM": -100000,
"mUnits": 10000
},
"lods": [
{
"level": 0,
"resolution": 2006.2172023914932,
"scale": 2311162.217155
},
{
"level": 1,
"resolution": 1003.1086011953124,
"scale": 1155581.108577
},
{
"level": 2,
"resolution": 501.55430059809026,
"scale": 577790.554289
},
{
"level": 3,
"resolution": 250.7771502986111,
"scale": 288895.277144
},
{
"level": 4,
"resolution": 125.38857514930555,
"scale": 144447.638572
},
{
"level": 5,
"resolution": 62.694287574652776,
"scale": 72223.819286
},
{
"level": 6,
"resolution": 31.347143787326388,
"scale": 36111.909643
},
{
"level": 7,
"resolution": 15.673571894097222,
"scale": 18055.954822
},
{
"level": 8,
"resolution": 7.836785947048611,
"scale": 9027.977411
},
{
"level": 9,
"resolution": 3.9183929730902776,
"scale": 4513.988705
},
{
"level": 10,
"resolution": 1.9591964869791667,
"scale": 2256.994353
}
]
},
"storageInfo": {
"storageFormat": "esriMapCacheStorageModeCompactV2",
"packetSize": 128
},
"initialExtent": {
"xmin": -186298.8758757474,
"ymin": 480483.9536751852,
"xmax": 1037043.2990813501,
"ymax": 801961.879722112,
"spatialReference": {
"wkid": 102711,
"latestWkid": 3424,
"xyTolerance": 0.00328083333333333,
"zTolerance": 0.001,
"mTolerance": 0.001,
"falseX": -17954600,
"falseY": -46918100,
"xyUnits": 1.3725506987923574E8,
"falseZ": -100000,
"zUnits": 10000,
"falseM": -100000,
"mUnits": 10000
}
},
"fullExtent": {
"xmin": -483982.593122288,
"ymin": -49575.0260989495,
"xmax": 1335763.6385984714,
"ymax": 976755.8378690757,
"spatialReference": {
"wkid": 102711,
"latestWkid": 3424,
"xyTolerance": 0.00328083333333333,
"zTolerance": 0.001,
"mTolerance": 0.001,
"falseX": -17954600,
"falseY": -46918100,
"xyUnits": 1.3725506987923574E8,
"falseZ": -100000,
"zUnits": 10000,
"falseM": -100000,
"mUnits": 10000
}
},
"datesInUnknownTimezone": false,
"minScale": 2311162.217155,
"maxScale": 2256.994353,
"units": "esriFeet",
"supportedImageFormatTypes": "PNG32,PNG24,PNG,JPG,DIB,TIFF,EMF,PS,PDF,GIF,SVG,SVGZ,BMP",
"documentInfo": {
"Title": "Road Centerlines of NJ Basemap",
"Author": "",
"Comments": " This basemap contains the comprehensive statewide road centerlines dataset to serve the needs of the entire New Jersey GIS user community. Features are symbolized by route type with route numbers and road name labels. The service is published in NJ State Plane coordinates, NAD83, US Survey feet. Note to service users who incorporate service layer(s) into an application or published live map: The NJ Office of GIS, as basemap publisher and steward, provides early notification of changes that may affect use of the cached basemap service. To do this, we need contact name and email address for the service user, and name of the application or published live map consuming the service. Please send this information to the NJ Office of GIS at njgin@oit.nj.gov.<\/SPAN><\/P><\/DIV><\/DIV><\/DIV>",
"Subject": "Road centerlines of NJ as a cached basemap.",
"Category": "",
"Version": "10.1",
"AntialiasingMode": "None",
"TextAntialiasingMode": "Force",
"Keywords": "New Jersey,NJ,roads,streets,routes,highways,centerlines,transportation,basemap"
},
"supportsQueryDomains": true,
"capabilities": "Map,Query,Data",
"supportedQueryFormats": "JSON, geoJSON, PBF",
"exportTilesAllowed": false,
"referenceScale": 0.0,
"supportsDatumTransformation": true,
"archivingInfo": {"supportsHistoricMoment": false},
"supportsClipping": true,
"supportsSpatialFilter": true,
"supportsTimeRelation": true,
"supportsQueryDataElements": true,
"mapUnits": {"uwkid": 9003},
"maxSelectionCount": 2000,
"maxRecordCount": 1000,
"maxImageHeight": 4096,
"maxImageWidth": 4096,
"supportedExtensions": "",
"resampling": false
}