{ "currentVersion": 11.5, "serviceDescription": "

This statewide 10 foot resolution Digital Elevation Model (DEM) was developed from 4 major New Jersey LiDAR collection projects undertaken between 2014 and 2019. Bare earth points from the original point clouds were re-sampled to create 10 foot resolution bare earth models for each individual project. These individual 10 foot resolution models were then merged to create this statewide DEM. The Statewide 10 ft resolution DEM, edition 20191202 was updated to incorporate new data collected in the spring of 2019 for 5 southern New Jersey counties: Cumberland, Salem, Cape May, Atlantic and Ocean.<\/span><\/p><\/div><\/div>", "name": "Elevation/NJ_10ft_DEM", "description": "

This statewide 10 foot resolution Digital Elevation Model (DEM) was developed from 4 major New Jersey LiDAR collection projects undertaken between 2014 and 2019. Bare earth points from the original point clouds were re-sampled to create 10 foot resolution bare earth models for each individual project. These individual 10 foot resolution models were then merged to create this statewide DEM. The Statewide 10 ft resolution DEM, edition 20191202 was updated to incorporate new data collected in the spring of 2019 for 5 southern New Jersey counties: Cumberland, Salem, Cape May, Atlantic and Ocean.<\/span><\/p><\/div><\/div>", "extent": { "xmin": 189714.99999998952, "ymin": 34284.999999999185, "xmax": 657554.9999999895, "ymax": 920214.9999999992, "spatialReference": { "wkid": 103106, "latestWkid": 6527, "vcsWkid": 105703, "latestVcsWkid": 6360 } }, "initialExtent": { "xmin": 189714.99999998952, "ymin": 34284.999999999185, "xmax": 657554.9999999895, "ymax": 920214.9999999992, "spatialReference": { "wkid": 103106, "latestWkid": 6527, "vcsWkid": 105703, "latestVcsWkid": 6360 } }, "fullExtent": { "xmin": 189714.99999998952, "ymin": 34284.999999999185, "xmax": 657554.9999999895, "ymax": 920214.9999999992, "spatialReference": { "wkid": 103106, "latestWkid": 6527, "vcsWkid": 105703, "latestVcsWkid": 6360 } }, "sortableFields": "", "heightModelInfo": { "heightModel": "gravity_related_height", "vertCRS": "NAVD88_height_(ftUS)", "heightUnit": "us-foot" }, "bandCount": 1, "pixelType": "F32", "minValues": [ -122.94731903076 ], "maxValues": [ 1803.4840087891 ], "meanValues": [ 221.89601934166 ], "stdvValues": [ 291.08908613966 ], "serviceProperties": "Center<\/MosaicMethod>First<\/MosaicOperator>true<\/SortAscending><\/LockImageID><\/TileOrderField>0<\/TileOrderBase>0.000000<\/AvgImageSpacingX>0.000000<\/AvgImageSpacingY>0.0<\/ViewPointX>0.0<\/ViewPointY>0.0<\/ViewPointDefShiftX>0.0<\/ViewPointDefShiftY>None<\/CompressionMethod>75<\/CompressionQuality>0.010000<\/CompressionTolerance>Bilinear<\/SamplingMethod><\/ImageServiceProperties><\/ImageServer>", "allowedFields": "", "hasMultidimensions": false, "pixelSizeX": 10, "pixelSizeY": 10, "meanPixelSize": 3.0480060960121924, "datasetFormat": "IMAGINE Image", "uncompressedSize": 16578939648, "blockWidth": 64, "blockHeight": 64, "compressionType": "None", "bandNames": [ "Layer_1" ], "allowCopy": true, "allowAnalysis": true, "itemAccess": false, "inspectionCapabilities": "", "noDataValue": -3.4028234663852886E38, "noDataValues": [ -3.4028234663852886E38 ], "minPixelSize": 0, "maxPixelSize": 0, "copyrightText": "", "serviceDataType": "esriImageServiceDataTypeGeneric", "serviceSourceType": "esriImageServiceSourceTypeDataset", "objectIdField": "", "fields": [], "capabilities": "Mensuration,Image,Metadata", "defaultMosaicMethod": "Center", "allowedMosaicMethods": "", "sortField": "", "sortValue": null, "sortAscending": true, "mosaicOperator": "First", "defaultCompressionQuality": 75, "defaultResamplingMethod": "Bilinear", "maxImageHeight": 4100, "maxImageWidth": 15000, "allowRasterFunction": true, "rasterFunctionInfos": [ { "name": "None", "description": "", "help": "" } ], "rasterTypeInfos": [ { "name": "Raster Dataset", "description": "Supports all ArcGIS Raster Datasets", "help": "" } ], "mensurationCapabilities": "Basic", "hasHistograms": true, "hasColormap": false, "hasRasterAttributeTable": false, "minScale": 0, "maxScale": 0, "exportTilesAllowed": false, "supportsStatistics": false, "supportsAdvancedQueries": false, "editFieldsInfo": null, "ownershipBasedAccessControlForRasters": null, "allowComputeTiePoints": false, "useStandardizedQueries": true, "advancedQueryCapabilities": { "useStandardizedQueries": true, "supportsStatistics": false, "supportsOrderBy": false, "supportsDistinct": false, "supportsPagination": false }, "spatialReference": { "wkid": 103106, "latestWkid": 6527, "vcsWkid": 105703, "latestVcsWkid": 6360 }, "resampling": false }