{ "currentVersion": 11.3, "serviceDescription": "
This hillshade grid was created from the New Jersey 10 Foot Resolution LiDAR Derived Digital Elevation Model (DEM, Edition 20210104). The DEM was developed from 4 major New Jersey LiDAR collection projects undertaken between 2014 and 2019. Bare earth points from the original point clouds were re-sampled to create 10 foot resolution bare earth models for each individual project. These individual 10 foot resolution models were then merged to create the statewide DEM.<\/span><\/p><\/div><\/div>",
"name": "Elevation/NJ_10ft_HSD",
"description": " This hillshade grid was created from the New Jersey 10 Foot Resolution LiDAR Derived Digital Elevation Model (DEM, Edition 20210104). The DEM was developed from 4 major New Jersey LiDAR collection projects undertaken between 2014 and 2019. Bare earth points from the original point clouds were re-sampled to create 10 foot resolution bare earth models for each individual project. These individual 10 foot resolution models were then merged to create the statewide DEM.<\/span><\/p><\/div><\/div>",
"extent": {
"xmin": 189714.99999998952,
"ymin": 34284.999999999185,
"xmax": 657554.9999999895,
"ymax": 920214.9999999992,
"spatialReference": {
"wkid": 103106,
"latestWkid": 6527,
"vcsWkid": 105703,
"latestVcsWkid": 6360
}
},
"initialExtent": {
"xmin": 189714.99999998952,
"ymin": 34284.999999999185,
"xmax": 657554.9999999895,
"ymax": 920214.9999999992,
"spatialReference": {
"wkid": 103106,
"latestWkid": 6527,
"vcsWkid": 105703,
"latestVcsWkid": 6360
}
},
"fullExtent": {
"xmin": 189714.99999998952,
"ymin": 34284.999999999185,
"xmax": 657554.9999999895,
"ymax": 920214.9999999992,
"spatialReference": {
"wkid": 103106,
"latestWkid": 6527,
"vcsWkid": 105703,
"latestVcsWkid": 6360
}
},
"sortableFields": "",
"heightModelInfo": {
"heightModel": "gravity_related_height",
"vertCRS": "NAVD88_height_(ftUS)",
"heightUnit": "us-foot"
},
"bandCount": 1,
"pixelType": "U8",
"minValues": [
0
],
"maxValues": [
254
],
"meanValues": [
178.80184684125
],
"stdvValues": [
14.62817752887
],
"hasMultidimensions": false,
"pixelSizeX": 10,
"pixelSizeY": 10,
"meanPixelSize": 3.0480060960121924,
"datasetFormat": "IMAGINE Image",
"uncompressedSize": 4144734912,
"blockWidth": 64,
"blockHeight": 64,
"compressionType": "None",
"bandNames": [
"Layer_1"
],
"allowCopy": true,
"allowAnalysis": true,
"itemAccess": false,
"inspectionCapabilities": "",
"noDataValue": 255,
"noDataValues": [
255
],
"minPixelSize": 0,
"maxPixelSize": 0,
"copyrightText": "",
"serviceDataType": "esriImageServiceDataTypeGeneric",
"serviceSourceType": "esriImageServiceSourceTypeDataset",
"objectIdField": "",
"fields": [],
"capabilities": "Mensuration,Image,Metadata",
"defaultMosaicMethod": "Center",
"allowedMosaicMethods": "",
"sortField": "",
"sortValue": null,
"sortAscending": true,
"mosaicOperator": "First",
"defaultCompressionQuality": 75,
"defaultResamplingMethod": "Bilinear",
"maxImageHeight": 4100,
"maxImageWidth": 15000,
"allowRasterFunction": true,
"rasterFunctionInfos": [
{
"name": "None",
"description": "",
"help": ""
}
],
"rasterTypeInfos": [
{
"name": "Raster Dataset",
"description": "Supports all ArcGIS Raster Datasets",
"help": ""
}
],
"mensurationCapabilities": "Basic",
"hasHistograms": true,
"hasColormap": false,
"hasRasterAttributeTable": true,
"minScale": 0,
"maxScale": 0,
"exportTilesAllowed": false,
"supportsStatistics": false,
"supportsAdvancedQueries": false,
"editFieldsInfo": null,
"ownershipBasedAccessControlForRasters": null,
"allowComputeTiePoints": false,
"useStandardizedQueries": true,
"advancedQueryCapabilities": {
"useStandardizedQueries": true,
"supportsStatistics": false,
"supportsOrderBy": false,
"supportsDistinct": false,
"supportsPagination": false
},
"spatialReference": {
"wkid": 103106,
"latestWkid": 6527,
"vcsWkid": 105703,
"latestVcsWkid": 6360
},
"resampling": false
}