<?xml version="1.0" encoding="UTF-8" standalone="no"?>
<metadata xml:lang="en">
<Esri>
<CreaDate>20190620</CreaDate>
<CreaTime>17154700</CreaTime>
<ArcGISFormat>1.0</ArcGISFormat>
<ArcGISstyle>FGDC CSDGM Metadata</ArcGISstyle>
<SyncOnce>FALSE</SyncOnce>
<DataProperties>
<itemProps>
<itemName Sync="TRUE">RAST_NW_HSD.img</itemName>
<nativeExtBox>
<westBL Sync="TRUE">296225.991252</westBL>
<eastBL Sync="TRUE">605329.991252</eastBL>
<southBL Sync="TRUE">548191.984503</southBL>
<northBL Sync="TRUE">920205.984503</northBL>
<exTypeCode Sync="TRUE">1</exTypeCode>
</nativeExtBox>
<imsContentType Sync="TRUE">002</imsContentType>
</itemProps>
<coordRef>
<type Sync="TRUE">Projected</type>
<geogcsn Sync="TRUE">GCS_NAD_1983_2011</geogcsn>
<csUnits Sync="TRUE">Linear Unit: Foot_US (0.304801)</csUnits>
<projcsn Sync="TRUE">NAD_1983_2011_StatePlane_New_Jersey_FIPS_2900_Ft_US</projcsn>
<peXml Sync="TRUE">&lt;ProjectedCoordinateSystem xsi:type='typens:ProjectedCoordinateSystem' xmlns:xsi='http://www.w3.org/2001/XMLSchema-instance' xmlns:xs='http://www.w3.org/2001/XMLSchema' xmlns:typens='http://www.esri.com/schemas/ArcGIS/10.5'&gt;&lt;WKT&gt;PROJCS[&amp;quot;NAD_1983_2011_StatePlane_New_Jersey_FIPS_2900_Ft_US&amp;quot;,GEOGCS[&amp;quot;GCS_NAD_1983_2011&amp;quot;,DATUM[&amp;quot;D_NAD_1983_2011&amp;quot;,SPHEROID[&amp;quot;GRS_1980&amp;quot;,6378137.0,298.257222101]],PRIMEM[&amp;quot;Greenwich&amp;quot;,0.0],UNIT[&amp;quot;Degree&amp;quot;,0.0174532925199433]],PROJECTION[&amp;quot;Transverse_Mercator&amp;quot;],PARAMETER[&amp;quot;False_Easting&amp;quot;,492125.0],PARAMETER[&amp;quot;False_Northing&amp;quot;,0.0],PARAMETER[&amp;quot;Central_Meridian&amp;quot;,-74.5],PARAMETER[&amp;quot;Scale_Factor&amp;quot;,0.9999],PARAMETER[&amp;quot;Latitude_Of_Origin&amp;quot;,38.83333333333334],UNIT[&amp;quot;Foot_US&amp;quot;,0.3048006096012192]],VERTCS[&amp;quot;NAVD88 height - Geoid12B (feet)&amp;quot;,VDATUM[&amp;quot;North_American_Vertical_Datum_1988&amp;quot;],PARAMETER[&amp;quot;Vertical_Shift&amp;quot;,0.0],PARAMETER[&amp;quot;Direction&amp;quot;,1.0],UNIT[&amp;quot;Foot_US&amp;quot;,0.3048006096012192]]&lt;/WKT&gt;&lt;XOrigin&gt;-17954600&lt;/XOrigin&gt;&lt;YOrigin&gt;-46918100&lt;/YOrigin&gt;&lt;XYScale&gt;137255069.87923574&lt;/XYScale&gt;&lt;ZOrigin&gt;-100000&lt;/ZOrigin&gt;&lt;ZScale&gt;10000&lt;/ZScale&gt;&lt;MOrigin&gt;-100000&lt;/MOrigin&gt;&lt;MScale&gt;10000&lt;/MScale&gt;&lt;XYTolerance&gt;0.0032808333333333331&lt;/XYTolerance&gt;&lt;ZTolerance&gt;0.001&lt;/ZTolerance&gt;&lt;MTolerance&gt;0.001&lt;/MTolerance&gt;&lt;HighPrecision&gt;true&lt;/HighPrecision&gt;&lt;WKID&gt;103106&lt;/WKID&gt;&lt;LatestWKID&gt;6527&lt;/LatestWKID&gt;&lt;/ProjectedCoordinateSystem&gt;</peXml>
</coordRef>
<RasterProperties>
<General>
<PixelDepth Sync="TRUE">8</PixelDepth>
<HasColormap Sync="TRUE">FALSE</HasColormap>
<CompressionType Sync="TRUE">None</CompressionType>
<NumBands Sync="TRUE">1</NumBands>
<Format Sync="TRUE">IMAGINE Image</Format>
<HasPyramids Sync="TRUE">TRUE</HasPyramids>
<SourceType Sync="TRUE">continuous</SourceType>
<PixelType Sync="TRUE">unsigned integer</PixelType>
<NoDataValue Sync="TRUE">255</NoDataValue>
</General>
</RasterProperties>
</DataProperties>
<SyncDate>20190927</SyncDate>
<SyncTime>11202000</SyncTime>
<ModDate>20190927</ModDate>
<ModTime>11202000</ModTime>
<scaleRange>
<minScale>50000</minScale>
<maxScale>5000</maxScale>
</scaleRange>
<ArcGISProfile>FGDC</ArcGISProfile>
</Esri>
<eainfo>
<detailed Name="RAST_NW_HSD.img.vat">
<enttyp>
<enttypl Sync="TRUE">RAST_NW_HSD.img.vat</enttypl>
<enttypt Sync="TRUE">Table</enttypt>
<enttypc Sync="TRUE">255</enttypc>
</enttyp>
<attr>
<attrlabl Sync="TRUE">OID</attrlabl>
<attalias Sync="TRUE">OID</attalias>
<attrtype Sync="TRUE">OID</attrtype>
<attwidth Sync="TRUE">4</attwidth>
<atprecis Sync="TRUE">0</atprecis>
<attscale Sync="TRUE">0</attscale>
<attrdef Sync="TRUE">Internal feature number.</attrdef>
<attrdefs Sync="TRUE">Esri</attrdefs>
<attrdomv>
<udom Sync="TRUE">Sequential unique whole numbers that are automatically generated.</udom>
</attrdomv>
</attr>
<attr>
<attrlabl Sync="TRUE">Value</attrlabl>
<attalias Sync="TRUE">Value</attalias>
<attrtype Sync="TRUE">Integer</attrtype>
<attwidth Sync="TRUE">10</attwidth>
<atprecis Sync="TRUE">10</atprecis>
<attscale Sync="TRUE">0</attscale>
</attr>
<attr>
<attrlabl Sync="TRUE">Count</attrlabl>
<attalias Sync="TRUE">Count</attalias>
<attrtype Sync="TRUE">Double</attrtype>
<attwidth Sync="TRUE">19</attwidth>
<atprecis Sync="TRUE">0</atprecis>
<attscale Sync="TRUE">0</attscale>
</attr>
</detailed>
</eainfo>
<mdLang>
<languageCode value="eng">
</languageCode>
<countryCode Sync="TRUE" value="USA">
</countryCode>
</mdLang>
<mdChar>
<CharSetCd value="004">
</CharSetCd>
</mdChar>
<mdHrLv>
<ScopeCd value="005">
</ScopeCd>
</mdHrLv>
<mdContact>
<rpOrgName>Sanborn Map Company, Inc.</rpOrgName>
<rpCntInfo>
<cntPhone>
<voiceNum>(866)726-2676</voiceNum>
</cntPhone>
<cntAddress addressType="both">
<delPoint>Suite 100</delPoint>
<delPoint>1935 Jamboree Drive</delPoint>
<city>Colorado Springs</city>
<adminArea>CO</adminArea>
<postCode>80920</postCode>
<country>US</country>
</cntAddress>
</rpCntInfo>
<role>
<RoleCd value="007">
</RoleCd>
</role>
</mdContact>
<mdDateSt Sync="TRUE">20190927</mdDateSt>
<mdStanName>ArcGIS Metadata</mdStanName>
<mdStanVer>1.0</mdStanVer>
<dataIdInfo>
<idCitation>
<resTitle Sync="FALSE">Northwest New Jersey Hillshade</resTitle>
<date>
<pubDate>2019-01-02</pubDate>
</date>
<citRespParty>
<rpOrgName>The Sanborn Map Company, Inc.</rpOrgName>
<role>
<RoleCd value="006">
</RoleCd>
</role>
</citRespParty>
<presForm>
<fgdcGeoform>Lidar point cloud</fgdcGeoform>
<PresFormCd Sync="TRUE" value="005">
</PresFormCd>
</presForm>
</idCitation>
<idAbs>&lt;div style='text-align:Left;'&gt;&lt;div&gt;&lt;div&gt;&lt;p&gt;&lt;span&gt;Product: These lidar data are processed Classified LASv1.4 files, formatted to 2,843 individual 5,000 ft x 5,000 ft tiles; used to create intensity images, 3D breaklines and hydro-flattened DEMs as necessary. Geographic Extent: 6 counties, New Jersey, covering approximately 2,358 square miles. Dataset Description: Sussex, Passaic, Warren, Morris, Hunterdon, Somerset county, New Jersey 2018 Lidar project called for the Planning, Acquisition, processing and derivative products of lidar data to be collected at a nominal pulse spacing (NPS) of 0.7 meter. Project specifications are based on the U.S. Geological Survey National Geospatial Program Base Lidar Specification, Version 1.3. The data was developed based on a horizontal projection/datum of NAD83 (2011), State Plane New Jersey, feet and vertical datum of NAVD88 (GEOID12B), feet. Lidar data was delivered as processed Classified LASv1.4 files, formatted to 2,843 individual 5,000 ft x 5,000 ft tiles, as tiled intensity imagery, and as tiled bare-earth DEMs; all tiled to the same 5,000 ft x 5,000 ft schema. Ground Conditions: Lidar was collected in early 2017 and 2018, while no snow was on the ground and rivers were at or below normal levels. In order to post process the lidar data to meet task order specifications and meet ASPRS vertical accuracy guidelines, The Sanborn Map Company, Inc. established a total of 30 ground control points that were used to calibrate the lidar to known ground locations established throughout the project area. An additional 140 independent accuracy check points, 79 in Open Terrain/Bare-Earth and Urban landcovers (79 NVA points), 61 in Grass, Brush and Trees categories (61 VVA points), were used to assess the vertical accuracy of the data. These check points were not used to calibrate or post process the data.&lt;/span&gt;&lt;/p&gt;&lt;/div&gt;&lt;/div&gt;&lt;/div&gt;</idAbs>
<idPurp>To acquire detailed surface elevation data for use in conservation planning, design, research, floodplain mapping, dam safety assessments and elevation...</idPurp>
<idStatus>
<ProgCd value="001">
</ProgCd>
</idStatus>
<resMaint>
<maintFreq>
<MaintFreqCd value="011">
</MaintFreqCd>
</maintFreq>
</resMaint>
<placeKeys>
<keyword>Sussex County</keyword>
<keyword>New Jersey</keyword>
<keyword>Passaic County</keyword>
<keyword>Somerset County</keyword>
<keyword>Morris County</keyword>
<keyword>Warren County</keyword>
<keyword>Hunterdon County</keyword>
</placeKeys>
<themeKeys>
<keyword>Elevation Data</keyword>
<keyword>LAS Point Cloud</keyword>
<keyword>Model</keyword>
<keyword>Lidar</keyword>
<keyword>Remote Sensing</keyword>
</themeKeys>
<searchKeys>
<keyword>Sussex County</keyword>
<keyword>Elevation Data</keyword>
<keyword>New Jersey</keyword>
<keyword>Passaic County</keyword>
<keyword>LAS Point Cloud</keyword>
<keyword>Somerset County</keyword>
<keyword>Morris County</keyword>
<keyword>Warren County</keyword>
<keyword>Model</keyword>
<keyword>Hunterdon County</keyword>
<keyword>Lidar</keyword>
<keyword>Remote Sensing</keyword>
</searchKeys>
<resConst>
<LegConsts>
<othConsts>No restrictions apply to these data.</othConsts>
</LegConsts>
</resConst>
<resConst>
<Consts>
<useLimit>&lt;div style='text-align:Left;'&gt;&lt;div&gt;&lt;div&gt;&lt;p&gt;&lt;span&gt;None. However, users should be aware that temporal changes may have occurred since this dataset was collected and that some parts of these data may no longer represent actual surface conditions. Users should not use these data for critical applications without a full awareness of its limitations. Acknowledgement of the U.S. Geological Survey would be appreciated for products derived from these data.&lt;/span&gt;&lt;/p&gt;&lt;/div&gt;&lt;/div&gt;&lt;/div&gt;</useLimit>
</Consts>
</resConst>
<spatRpType>
<SpatRepTypCd value="001">
</SpatRepTypCd>
</spatRpType>
<dataLang>
<languageCode value="eng">
</languageCode>
<countryCode Sync="TRUE" value="USA">
</countryCode>
</dataLang>
<dataExt>
<exDesc>ground condition</exDesc>
<tempEle>
<TempExtent>
<exTemp>
<TM_Instant>
<tmPosition>2018-04-24</tmPosition>
</TM_Instant>
</exTemp>
</TempExtent>
</tempEle>
<tempEle>
<TempExtent>
<exTemp>
<TM_Instant>
<tmPosition>2018-04-26</tmPosition>
</TM_Instant>
</exTemp>
</TempExtent>
</tempEle>
<tempEle>
<TempExtent>
<exTemp>
<TM_Instant>
<tmPosition>2018-04-05</tmPosition>
</TM_Instant>
</exTemp>
</TempExtent>
</tempEle>
<tempEle>
<TempExtent>
<exTemp>
<TM_Instant>
<tmPosition>2018-04-07</tmPosition>
</TM_Instant>
</exTemp>
</TempExtent>
</tempEle>
<tempEle>
<TempExtent>
<exTemp>
<TM_Instant>
<tmPosition>2018-04-14</tmPosition>
</TM_Instant>
</exTemp>
</TempExtent>
</tempEle>
<tempEle>
<TempExtent>
<exTemp>
<TM_Instant>
<tmPosition>2018-04-09</tmPosition>
</TM_Instant>
</exTemp>
</TempExtent>
</tempEle>
<tempEle>
<TempExtent>
<exTemp>
<TM_Instant>
<tmPosition>2017-04-15</tmPosition>
</TM_Instant>
</exTemp>
</TempExtent>
</tempEle>
<tempEle>
<TempExtent>
<exTemp>
<TM_Instant>
<tmPosition>2018-02-28</tmPosition>
</TM_Instant>
</exTemp>
</TempExtent>
</tempEle>
<tempEle>
<TempExtent>
<exTemp>
<TM_Instant>
<tmPosition>2018-04-12</tmPosition>
</TM_Instant>
</exTemp>
</TempExtent>
</tempEle>
<tempEle>
<TempExtent>
<exTemp>
<TM_Instant>
<tmPosition>2017-04-16</tmPosition>
</TM_Instant>
</exTemp>
</TempExtent>
</tempEle>
<tempEle>
<TempExtent>
<exTemp>
<TM_Instant>
<tmPosition>2018-04-13</tmPosition>
</TM_Instant>
</exTemp>
</TempExtent>
</tempEle>
</dataExt>
<dataExt>
<geoEle>
<GeoBndBox>
<westBL>-75.2064717766</westBL>
<eastBL>-74.0891615268</eastBL>
<southBL>40.337625708</southBL>
<northBL>41.3594282505</northBL>
</GeoBndBox>
</geoEle>
</dataExt>
<suppInfo>USGS Contract: G16PC00051 CONTRACTOR: The Sanborn Map Company, Inc SUBCONTRACTOR: Keystone Aerial Surveys, Inc., Lidar data were acquired by Sanborn and Keystone. All follow-on processing was completed by the prime contractor.</suppInfo>
<envirDesc Sync="TRUE"> Version 6.2 (Build 9200) ; Esri ArcGIS 10.5.1.7333</envirDesc>
<dataExt>
<geoEle>
<GeoBndBox esriExtentType="search">
<exTypeCode Sync="TRUE">1</exTypeCode>
<westBL Sync="TRUE">-75.213630</westBL>
<eastBL Sync="TRUE">-74.087601</eastBL>
<northBL Sync="TRUE">41.359596</northBL>
<southBL Sync="TRUE">40.336296</southBL>
</GeoBndBox>
</geoEle>
</dataExt>
<tpCat>
<TopicCatCd value="006">
</TopicCatCd>
</tpCat>
<idCredit/>
</dataIdInfo>
<dqInfo>
<dqScope>
<scpLvl>
<ScopeCd value="005">
</ScopeCd>
</scpLvl>
</dqScope>
<report type="DQConcConsis">
<measDesc>Data covers the AOI specified for this project.</measDesc>
</report>
<report type="DQCompOm">
<measDesc>These LAS data files include all data points collected. No points have been removed or excluded. A visual qualitative assessment was performed to ensure data completeness. No void areas or missing data exist. The raw point cloud is of good quality and data passes Non-Vegetated Vertical Accuracy specifications.</measDesc>
</report>
<report dimension="vertical" type="DQAbsExtPosAcc">
<measDesc>The project specifications require that only Non-Vegetated Vertical Accuracy (NVA) be computed for raw lidar point cloud swath files. The required accuracy (ACCz) is: 19.6 cm at a 95% confidence level, derived according to NSSDA, i.e., based on RMSE of 10 cm in the &#147;bare earth&#148; and "urban" land cover classes. The NVA was tested with 79 checkpoints located in open terrain/bare earth and urban (non-vegetated) areas. These check points were not used in the calibration or post processing of the lidar point cloud data. The check points were distributed throughout the project area and were surveyed using GPS techniques. See survey report for additional survey methodologies. Elevations from the unclassified lidar surface were measured for the x,y location of each check point. Elevations interpolated from the lidar surface were then compared to the elevation values of the surveyed control points. AccuracyZ has been tested to meet 19.6 cm or better Non-Vegetated Vertical Accuracy at 95% confidence level using RMSE(z) x 1.9600 as defined by the National Standards for Spatial Data Accuracy (NSSDA); assessed and reported using National Digital Elevation Program (NDEP)/ASRPS Guidelines.</measDesc>
<evalMethDesc>Tested 0.513 feet NVA at a 95% confidence level using RMSE(z) x 1.9600 as defined by the National Standards for Spatial Data Accuracy (NSSDA). The NVA of the raw lidar point cloud swath files was calculated against TINs derived from the final calibrated and controlled swath data using 79 independent check points located in Open Terrain/Bare Earth and Urban land cover classes.</evalMethDesc>
<measResult>
<QuanResult>
<quanVal>0.513</quanVal>
</QuanResult>
</measResult>
</report>
<dataLineage>
<dataSource>
<srcDesc>This data source was used (along with airborne GNSS/IMU data) to georeference the lidar point cloud data.</srcDesc>
<srcScale>
<rfDenom>50</rfDenom>
</srcScale>
<srcCitatn>
<resTitle>Ground Control for New Jersey 6 County lidar project</resTitle>
<resAltTitle>OK_USGS_controlsummary</resAltTitle>
<date>
<pubDate>2019-01-02</pubDate>
</date>
<citRespParty>
<rpOrgName>Steven A. Wood Professional Surveyor</rpOrgName>
<role>
<RoleCd value="006">
</RoleCd>
</role>
</citRespParty>
<citRespParty>
<rpOrgName>Steven A. Wood Professional Surveyor</rpOrgName>
<rpCntInfo>
<cntAddress>
<delPoint>Junction City, Oregon</delPoint>
</cntAddress>
</rpCntInfo>
<role>
<RoleCd value="010">
</RoleCd>
</role>
</citRespParty>
<presForm>
<fgdcGeoform>vector digital data and tabular digital data</fgdcGeoform>
</presForm>
<otherCitDet>None</otherCitDet>
</srcCitatn>
<srcExt>
<exDesc>ground condition</exDesc>
<tempEle>
<TempExtent>
<exTemp>
<TM_Instant>
<tmPosition>2018-04-28</tmPosition>
</TM_Instant>
</exTemp>
</TempExtent>
</tempEle>
</srcExt>
</dataSource>
<prcStep>
<stepDesc>The following steps describe the Raw Data Processing and Calibration process: 1) Technicians processed the raw data to LAS format flight lines using the ABGNSS/IMU solution. 2) Technicians use TerraSolid TerraMatch to calculate initial calibration adjustment angles by mission and/or block. This is accomplished by identifying ground and above ground feature observations between flight-lines and calculating the offsets. The technician then analyzed the results and made any necessary additional adjustment until it is acceptable. 3) Once the angle calculation was completed the adjusted settings were applied to all of the flight-lines of the mission and/or block and checked for consistency. The technicians utilized commercial and proprietary software packages to analyze how well flight-line overlaps match and adjusted as necessary until the results met the project specifications. 4) The technicians checked and corrected the vertical misalignment of all flight-lines and also the matching between data and ground truth. The relative accuracy was less than or equal to 6 cm RMSEz within individual swaths and less than or equal to 8 cm RMSDz or within swath overlap (between adjacent swaths). 5) The technicians ran a final vertical accuracy check of the calibrated point cloud against the surveyed check points after the z correction to ensure the requirement of NVA = 19.6 cm 95% Confidence Level (Required Accuracy) was met. Point classification was performed according to USGS Lidar Base Specification 1.2, and breaklines were collected for water features. Bare earth DEMs were exported from the classified point cloud using collected breaklines for hydroflattening.</stepDesc>
<stepDateTm>2018-01-01</stepDateTm>
<stepProc>
<rpIndName>Shawn Benham</rpIndName>
<rpOrgName>Sanborn Map Company, Inc.</rpOrgName>
<rpCntInfo>
<cntPhone>
<voiceNum>(719)502-1296</voiceNum>
<faxNum>(719)528-5090</faxNum>
</cntPhone>
<cntAddress addressType="both">
<delPoint>1935 Jamboree Drive</delPoint>
<delPoint>Suite 100</delPoint>
<city>Colorado Springs</city>
<adminArea>CO</adminArea>
<postCode>80920</postCode>
<country>US</country>
<eMailAdd>sbenham@sanborn.com</eMailAdd>
</cntAddress>
<cntHours>Monday - Friday 8 a.m. to 5 p.m. (Mountain Time)</cntHours>
<cntInstr>If unable to reach the contact by telephone, please send an email. You should get a response within 24 hours.</cntInstr>
</rpCntInfo>
<role>
<RoleCd value="009">
</RoleCd>
</role>
</stepProc>
<stepSrc type="used">
<srcCitatn>
<resAltTitle>OK_USGS_controlsummary</resAltTitle>
</srcCitatn>
</stepSrc>
</prcStep>
<prcStep>
<stepDesc>LAS Point Classification: The point classification is performed as described below. The bare-earth surface is manually reviewed to ensure correct classification on the Class 2 (Ground) points. After the bare-earth surface is edited and QC'd, it is then used to generate all hydro-breaklines through heads-up digitization. All ground (ASPRS Class 2) lidar data inside of the Lake Pond and River Pond hydro flattening breaklines were then classified to water (ASPRS Class 9) using LP360 functionality. A buffer of 2 feet was also used around each hydro-flattened feature to classify these ground (ASPRS Class 2) points to Ignored ground (ASPRS Class 10). All Lake Pond Island and River Stream Island features were checked to ensure that the ground (ASPRS Class 2) points were reclassified to the correct classification after the automated classification was completed. All overlap data was processed through automated functionality provided by TerraScan to classify the overlapping flight-line data to approved classes by USGS. The overlap data was classified using standard LAS overlap bit. These classes were created through automated processes only and were not verified for classification accuracy. All data was manually reviewed and any remaining artifacts removed using functionality provided by TerraScan and TerraModeler. Global Mapper is used as a final check of the bare-earth dataset. GeoCue was then used to create the deliverable industry-standard LAS files for the Classified Point Cloud Data. LAStools, LP360 and TerraScan software was used to perform statistical analysis of the classes in the LAS files, on a per tile level to verify classification metrics and full LAS header information.</stepDesc>
<stepDateTm>2019-01-02</stepDateTm>
</prcStep>
</dataLineage>
</dqInfo>
<distInfo>
<distFormat>
<formatName Sync="TRUE">Raster Dataset</formatName>
</distFormat>
</distInfo>
<mdHrLvName Sync="TRUE">dataset</mdHrLvName>
<refSysInfo>
<RefSystem>
<refSysID>
<identCode Sync="TRUE" code="6527">
</identCode>
<idCodeSpace Sync="TRUE">EPSG</idCodeSpace>
<idVersion Sync="TRUE">8.2.10(10.3.1)</idVersion>
</refSysID>
</RefSystem>
</refSysInfo>
<spatRepInfo>
<Georect>
<cellGeo>
<CellGeoCd Sync="TRUE" value="002">
</CellGeoCd>
</cellGeo>
<numDims Sync="TRUE">2</numDims>
<tranParaAv Sync="TRUE">1</tranParaAv>
<chkPtAv Sync="TRUE">0</chkPtAv>
<cornerPts>
<pos Sync="TRUE">296225.991252 548191.984503</pos>
</cornerPts>
<cornerPts>
<pos Sync="TRUE">296225.991252 920205.984503</pos>
</cornerPts>
<cornerPts>
<pos Sync="TRUE">605329.991252 920205.984503</pos>
</cornerPts>
<cornerPts>
<pos Sync="TRUE">605329.991252 548191.984503</pos>
</cornerPts>
<centerPt>
<pos Sync="TRUE">450777.991252 734198.984503</pos>
</centerPt>
<axisDimension type="002">
<dimSize Sync="TRUE">154552</dimSize>
<dimResol>
<value Sync="TRUE" uom="ftUS">2.000000</value>
</dimResol>
</axisDimension>
<axisDimension type="001">
<dimSize Sync="TRUE">186007</dimSize>
<dimResol>
<value Sync="TRUE" uom="ftUS">2.000000</value>
</dimResol>
</axisDimension>
<ptInPixel>
<PixOrientCd Sync="TRUE" value="001">
</PixOrientCd>
</ptInPixel>
</Georect>
</spatRepInfo>
<contInfo>
<ImgDesc>
<contentTyp>
<ContentTypCd Sync="TRUE" value="001">
</ContentTypCd>
</contentTyp>
<covDim>
<Band>
<dimDescrp Sync="TRUE">Layer_1</dimDescrp>
<maxVal Sync="TRUE">254.000000</maxVal>
<minVal Sync="TRUE">0.000000</minVal>
<bitsPerVal Sync="TRUE">8</bitsPerVal>
<valUnit>
<UOM type="length">
</UOM>
</valUnit>
</Band>
</covDim>
</ImgDesc>
</contInfo>
</metadata>
