{
 "currentVersion": 10.91,
 "serviceDescription": "This statewide 10 foot resolution Digital Elevation Model (DEM) was developed from 12 separate major New Jersey LiDAR collection projects, and one LIDAR project done for Delaware. Bare earth points from the original point clouds were re-sampled to create 10 foot resolution bare earth models for each individual project. These individual 10 foot resolution models were then merged to create this statewide DEM",
 "name": "Elevation/nj10ftdem",
 "description": "This statewide 10 foot resolution Digital Elevation Model (DEM) was developed from 12 separate major New Jersey LiDAR collection projects, and one LIDAR project done for Delaware. Bare earth points from the original point clouds were re-sampled to create 10 foot resolution bare earth models for each individual project. These individual 10 foot resolution models were then merged to create this statewide DEM",
 "extent": {
  "xmin": 190064.99999999156,
  "ymin": 34435.000000000815,
  "xmax": 657564.9999999916,
  "ymax": 920055.0000000009,
  "spatialReference": {
   "wkid": 102711,
   "latestWkid": 3424
  }
 },
 "initialExtent": {
  "xmin": 190064.99999999156,
  "ymin": 34435.000000000815,
  "xmax": 657564.9999999916,
  "ymax": 920055.0000000009,
  "spatialReference": {
   "wkid": 102711,
   "latestWkid": 3424
  }
 },
 "fullExtent": {
  "xmin": 190064.99999999156,
  "ymin": 34435.000000000815,
  "xmax": 657564.9999999916,
  "ymax": 920055.0000000009,
  "spatialReference": {
   "wkid": 102711,
   "latestWkid": 3424
  }
 },
 "pixelSizeX": 10.000000000000002,
 "pixelSizeY": 10.000000000000002,
 "bandCount": 1,
 "pixelType": "F32",
 "minPixelSize": 0,
 "maxPixelSize": 0,
 "copyrightText": "",
 "serviceDataType": "esriImageServiceDataTypeGeneric",
 "minValues": [
  -648.415283203125
 ],
 "maxValues": [
  1803.2406005859375
 ],
 "meanValues": [
  221.72402945939848
 ],
 "stdvValues": [
  290.97125374694616
 ],
 "objectIdField": "",
 "fields": [],
 "capabilities": "Mensuration,Image,Metadata",
 "defaultMosaicMethod": "Center",
 "allowedMosaicMethods": "",
 "sortField": "",
 "sortValue": null,
 "sortAscending": true,
 "mosaicOperator": "First",
 "defaultCompressionQuality": 75,
 "defaultResamplingMethod": "Bilinear",
 "maxImageHeight": 4100,
 "maxImageWidth": 15000,
 "allowRasterFunction": true,
 "rasterFunctionInfos": [
  {
   "name": "None",
   "description": "",
   "help": ""
  }
 ],
 "rasterTypeInfos": [
  {
   "name": "Raster Dataset",
   "description": "Supports all ArcGIS Raster Datasets",
   "help": ""
  }
 ],
 "mensurationCapabilities": "Basic",
 "hasHistograms": false,
 "hasColormap": false,
 "hasRasterAttributeTable": false,
 "minScale": 0,
 "maxScale": 0,
 "exportTilesAllowed": false,
 "hasMultidimensions": false,
 "supportsStatistics": false,
 "supportsAdvancedQueries": false,
 "editFieldsInfo": null,
 "ownershipBasedAccessControlForRasters": null,
 "allowComputeTiePoints": false,
 "useStandardizedQueries": true,
 "advancedQueryCapabilities": {
  "useStandardizedQueries": true,
  "supportsStatistics": false,
  "supportsOrderBy": false,
  "supportsDistinct": false,
  "supportsPagination": false
 },
 "spatialReference": {
  "wkid": 102711,
  "latestWkid": 3424
 }
}
