View In:
ArcGIS JavaScript
ArcGIS Online Map Viewer
ArcGIS Earth
ArcGIS Pro
Service Description: <div style='text-align:Left;'><div><div><p><span>Digital orthophotography of New Jersey, distributed as an ArcGIS REST cached tile service [https://maps.nj.gov/arcgis/rest/services/Basemap/Orthos_Natural_2012_NJ/MapServer/] and as a Tiled Web Map Service (WMTS) [https://maps.nj.gov/arcgis/rest/services/Basemap/Orthos_Natural_2012_NJ/MapServer/WMTS/tile/1.0.0/Basemap_Orthos_Natural_2012_NJ]. These services display the three natural color bands from the 4-band project. </span></p><p><span>The native data set spatial reference system is EPSG::3424 State Plane Coordinate System NAD83 Coordinates, U.S. Survey Feet. The cache processing has produced continuous tiles in EPSG::3857 WGS84 Web Mercator (auxiliary sphere) coordinates, meters. </span></p><p><span>Multi-spectral digital orthophotography was produced at a scale of 1:2400 (1" = 200') with a 1 foot pixel resolution for the entire state, totaling approximately 8,162 square miles.</span></p><p><span>Digital orthophotography combines the image characteristics of a photograph with the geometric qualities of a map. Each digitized perspective aerial photograph is rectified for camera lens distortion, vertical displacement caused by terrain relief and variations in aircraft altitude and orientation.</span></p></div></div></div>
Map Name: Layers
Legend
All Layers and Tables
Layers:
Description:
Copyright Text: Photo Science, Inc. was the operating contractor. Contract, procurement, and Quality Assurance by U.S. Geological Survey. Funding obtained by NJ Office of Information Technology, Office of Geographic Information Systems, from the following: -NJ State Police, Office of Emergency Management (NJSP, OEM) -National Geospatial-Intelligence Agency (NGA) via U.S. Geological Survey -NJ Department of Environmental Protection (NJDEP)-NJ Department of Transportation (NJDOT) -NJ Transit -NJ Office of Homeland Security and Preparedness (OHSP) -NJ Department of Military and Veterans Affairs (DMAVA) -US Army Corps of Engineers Processing for the WMTS was done by NJDEP.
Spatial Reference:
102100
(3857)
LatestVCSWkid(0)
Single Fused Map Cache: true
Tile Info:
- Height: 256.0
- Width: 256.0
- DPI: 96.0
-
Levels of Detail: 20
-
Level ID: 0
[ Start Tile, End Tile ]
- Resolution: 156543.03392800014
- Scale: 5.91657527591555E8
-
Level ID: 1
[ Start Tile, End Tile ]
- Resolution: 78271.51696399994
- Scale: 2.95828763795777E8
-
Level ID: 2
[ Start Tile, End Tile ]
- Resolution: 39135.75848200009
- Scale: 1.47914381897889E8
-
Level ID: 3
[ Start Tile, End Tile ]
- Resolution: 19567.87924099992
- Scale: 7.3957190948944E7
-
Level ID: 4
[ Start Tile, End Tile ]
- Resolution: 9783.93962049996
- Scale: 3.6978595474472E7
-
Level ID: 5
[ Start Tile, End Tile ]
- Resolution: 4891.96981024998
- Scale: 1.8489297737236E7
- Format: MIXED
- Compression Quality: 75.0
- Origin: X: -2.0037508342787E7
Y: 2.0037508342787E7
- Spatial Reference: 102100
(3857)
LatestVCSWkid(0)
Storage Info:
- Storage Format: esriMapCacheStorageModeCompactV2
- Packet Size: 128
Initial Extent:
XMin: -8663798.682011904
YMin: 4646898.764000999
XMax: -7933829.173847044
YMax: 5119125.951999007
Spatial Reference: 102100
(3857)
LatestVCSWkid(0)
Full Extent:
XMin: -8655493.637938185
YMin: 4677839.858380003
XMax: -7981786.882561816
YMax: 5088184.857620003
Spatial Reference: 102100
(3857)
LatestVCSWkid(0)
Units: esriMeters
Supported Image Format Types: PNG32,PNG24,PNG,JPG,DIB,TIFF,EMF,PS,PDF,GIF,SVG,SVGZ,BMP
Document Info:
Title: NJ 2012 Natural Color Orthophoto Cached Tile Base Map Service, 1 foot (Web Mercator)
Author:
Comments: <DIV STYLE="text-align:Left;"><DIV><DIV><P><SPAN>Digital orthophotography of New Jersey, distributed as an ArcGIS REST cached tile service [https://maps.nj.gov/arcgis/rest/services/Basemap/Orthos_Natural_2012_NJ/MapServer/] and as a Tiled Web Map Service (WMTS) [https://maps.nj.gov/arcgis/rest/services/Basemap/Orthos_Natural_2012_NJ/MapServer/WMTS/tile/1.0.0/Basemap_Orthos_Natural_2012_NJ]. These services display the three natural color bands from the 4-band project. </SPAN></P><P><SPAN>The native data set spatial reference system is EPSG::3424 State Plane Coordinate System NAD83 Coordinates, U.S. Survey Feet. The cache processing has produced continuous tiles in EPSG::3857 WGS84 Web Mercator (auxiliary sphere) coordinates, meters. </SPAN></P><P><SPAN>Multi-spectral digital orthophotography was produced at a scale of 1:2400 (1" = 200') with a 1 foot pixel resolution for the entire state, totaling approximately 8,162 square miles.</SPAN></P><P><SPAN>Digital orthophotography combines the image characteristics of a photograph with the geometric qualities of a map. Each digitized perspective aerial photograph is rectified for camera lens distortion, vertical displacement caused by terrain relief and variations in aircraft altitude and orientation.</SPAN></P></DIV></DIV></DIV>
Subject: This is the preferred general-use live public access method for 2012 statewide orthophotography published by NJOIT - OGIS. The ArcGIS REST cached tile service and the WMTS are more responsive than the equivalent WMS. However they are slightly less accurate, and display is optimal only at fixed scales. The imagery has been resampled during caching.
Category:
Keywords: imageryBaseMapsEarthCover,image map,rectified photograph,orthoimage,orthophoto,rectified image,aerial photograph,remote sensing,digital orthoimagery,digital orthophotography,land base,WMTS,New Jersey,NJ,United States of America,USA,US,Bergen County,Burlington County,East Coast,Cumberland County,Union County,Somerset County,Gloucester County,Warren County,Sussex County,Monmouth County,Mid Atlantic,Middlesex County,Essex County,Ocean County,Salem County,Mercer County,Camden County,Cape May County,Passaic County,Atlantic County,Morris County,Hudson County,Hunterdon County
AntialiasingMode: None
TextAntialiasingMode: Force
Supports Dynamic Layers: false
Resampling: false
MaxRecordCount: 1000
MaxSelectionCount: 2000
MaxImageHeight: 4096
MaxImageWidth: 4096
Supported Query Formats: JSON, geoJSON, PBF
Supports Query Data Elements: true
Min Scale: 5.91657527591555E8
Max Scale: 1128.497176
Supports Datum Transformation: true
Child Resources:
Info
Supported Operations:
Export Map
Identify
QueryLegends
QueryDomains
Find
Return Updates