View In:
  ArcGIS JavaScript
  ArcGIS Online Map Viewer
  ArcGIS Earth
Service Description:  Product: Bare earth Digital Elevation Model (DEM) data. Geographic Extent: Atlantic, Cape May, Cumberland, Ocean, Salem counties New Jersey, covering approximately 2,545 square miles. Dataset Description: USGS South NJ Lidar project called for the Planning, Acquisition, processing and derivative products of lidar data to be collected at a nominal pulse spacing (NPS) of 0.5 meter. Project specifications are based on the U.S. Geological Survey National Geospatial Program Base Lidar Specification, Version 1.3. The data was developed based on a horizontal projection/datum of NAD83 (2011), State Plane New Jersey, feet and vertical datum of NAVD88 (GEOID12B), feet. Lidar data was delivered as processed Classified LAS 1.4 files, formatted to 3,079 individual 5000 x 5000 foot tiles, as tiled Intensity Rasters, and as tiled bare earth DEMs; all tiled to 3,079 individual 5000 x 5000 foot schema. Ground Conditions: Lidar was collected in early 2019, while no snow was on the ground and rivers were at or below normal levels. In order to post process the lidar data to meet task order specifications and meet ASPRS vertical accuracy guidelines, Sanborn Map Company, Inc. established a total of 30 ground control points that were used to calibrate the lidar to known ground locations established throughout the project area. An additional 142 independent accuracy check points, 80 in Open Terrain/Bare-Earth and Urban landcovers (80 NVA points), 62 in Grass, Brush and Trees categories (62 VVA points), were used to assess the vertical accuracy of the data. These check points were not used to calibrate or post process the data.
Name:  Elevation/SJ_DEM
Description:  Product: Bare earth Digital Elevation Model (DEM) data. Geographic Extent: Atlantic, Cape May, Cumberland, Ocean, Salem counties New Jersey, covering approximately 2,545 square miles. Dataset Description: USGS South NJ Lidar project called for the Planning, Acquisition, processing and derivative products of lidar data to be collected at a nominal pulse spacing (NPS) of 0.5 meter. Project specifications are based on the U.S. Geological Survey National Geospatial Program Base Lidar Specification, Version 1.3. The data was developed based on a horizontal projection/datum of NAD83 (2011), State Plane New Jersey, feet and vertical datum of NAVD88 (GEOID12B), feet. Lidar data was delivered as processed Classified LAS 1.4 files, formatted to 3,079 individual 5000 x 5000 foot tiles, as tiled Intensity Rasters, and as tiled bare earth DEMs; all tiled to 3,079 individual 5000 x 5000 foot schema. Ground Conditions: Lidar was collected in early 2019, while no snow was on the ground and rivers were at or below normal levels. In order to post process the lidar data to meet task order specifications and meet ASPRS vertical accuracy guidelines, Sanborn Map Company, Inc. established a total of 30 ground control points that were used to calibrate the lidar to known ground locations established throughout the project area. An additional 142 independent accuracy check points, 80 in Open Terrain/Bare-Earth and Urban landcovers (80 NVA points), 62 in Grass, Brush and Trees categories (62 VVA points), were used to assess the vertical accuracy of the data. These check points were not used to calibrate or post process the data.
Single Fused Map Cache:  false
Extent: 
XMin: 189722.0
YMin: 34292.0
XMax: 623544.0
YMax: 488014.0
Spatial Reference: 103106
 (6527)
 VCSWkid(105703)
 LatestVCSWkid(6360)
Initial Extent:
XMin: 189722.0
YMin: 34292.0
XMax: 623544.0
YMax: 488014.0
Spatial Reference: 103106
 (6527)
 VCSWkid(105703)
 LatestVCSWkid(6360)
Full Extent:
XMin: 189722.0
YMin: 34292.0
XMax: 623544.0
YMax: 488014.0
Spatial Reference: 103106
 (6527)
 VCSWkid(105703)
 LatestVCSWkid(6360)
Pixel Size X: 2.0
Pixel Size Y:  2.0
Band Count: 1
Pixel Type: F32
RasterFunction Infos:  {"rasterFunctionInfos": [{
 "name": "None",
 "description": "",
 "help": ""
}]}
Mensuration Capabilities: Basic
Inspection Capabilities: 
Has Histograms:  true
Has Colormap:  false
Has Multi Dimensions :  false
Rendering Rule: 
Min Scale:  0
Max Scale:  0
Resampling:  false
Copyright Text:  NJOGIS, NJDEP
Service Data Type:  esriImageServiceDataTypeGeneric
Min Values:  -9999.001953125
Max Values:  230.19999694824
Mean Values:  46.530558852305
Standard Deviation Values:  45.335865393616
Object ID Field:  
Fields: 
None
Default Mosaic Method:  Center
Allowed Mosaic Methods:  
SortField:  
SortValue:  null
Mosaic Operator:  First
Default Compression Quality:  75
Default Resampling Method:  Bilinear
Max Record Count:  null
Max Image Height:  4100
Max Image Width:  15000
Max Download Image Count:  null
Max Mosaic Image Count:  null
Allow Raster Function:  true
Allow Copy:  true
Allow Analysis:  true
Allow Compute TiePoints:  false
Supports Statistics:  false
Supports Advanced Queries:  false
Use StandardizedQueries:  true
Raster Type Infos: 
Name: Raster Dataset
Description: Supports all ArcGIS Raster Datasets
Help: 
Has Raster Attribute Table: false
Edit Fields Info:  null
Ownership Based AccessControl For Rasters:  null
Child Resources:
  
Info
  Histograms
  Statistics
  Key Properties
  Legend
  Raster Function Infos
Supported Operations:
  
Export Image
  Identify
  Measure
  Compute Histograms
  Compute Statistics Histograms
  Get Samples
  Compute Class Statistics
  Query Boundary
  Compute Pixel Location
  Compute Angles
  Validate
  Project