View In:
ArcGIS JavaScript
ArcGIS Online Map Viewer
ArcGIS Earth
ArcGIS Pro
Service Description: <div style='text-align:Left;'><div><div><p><span>Digital orthophotography of New Jersey, distributed as an ArcGIS REST cached tile service [https://maps.nj.gov/arcgis/rest/services/Basemap/Orthos_Natural_2015_NJ/MapServer/] and as a Tiled Web Map Service (WMTS) [https://maps.nj.gov/arcgis/rest/services/Basemap/Orthos_Natural_2015_NJ/MapServer/WMTS/tile/1.0.0/Basemap_Orthos_Natural_2015_NJ]. These services display the three natural color bands from the 4-band project. </span></p><p><span>The native data set spatial reference system is EPSG::6527 NAD83(2011) NJ State Plane coordinates, US Survey feet (Transverse Mercator projection). The cache processing has produced continuous tiles in EPSG::3857 WGS84 Web Mercator (auxiliary sphere) coordinates, meters. </span></p><p><span>Multi-spectral digital orthophotography was produced at a nominal scale of 1:2400 (1" = 200') with a 1 foot pixel resolution for the entire state, totalling approximately 8,162 square miles. </span></p><p><span>Digital orthophotography combines the image characteristics of a photograph with the geometric qualities of a map. Each digitized perspective aerial photograph is rectified for camera lense distortion, vertical displacement caused by terrain relief, and variations in aircraft altitude and orientation.</span></p></div></div></div>
Map Name: Layers
Legend
All Layers and Tables
Layers:
Description:
Copyright Text: Project definition, funding requests, and data distribution by NJ Office of Information Technology, Office of Geographic Information Systems (NJOIT - OGIS). Funding for the imagery project provided by: -NJ Office of Information Technology (NJOIT) -NJ Department of Transportation (NJDOT) -Delaware Valley Regional Planning Commission (DVRPC) -NJ TRANSIT -National Geospatial-Intelligence Agency (NGA) -Mercer County -NJ Department of Military and Veterans Affairs (DMAVA). Imagery project administration support provided by NJ Department of Environmental Protection (NJDEP). Contract and procurement by U.S. Geological Survey. Principal operating contractor was Quantum Spatial, Inc. Quality Assurance by Woolpert, Inc, under contract to U.S.G.S. Processing for the WMTS was done by NJOIT - OGIS.
Spatial Reference:
102100
(3857)
LatestVCSWkid(0)
Single Fused Map Cache: true
Tile Info:
- Height: 256.0
- Width: 256.0
- DPI: 96.0
-
Levels of Detail: 21
-
Level ID: 0
[ Start Tile, End Tile ]
- Resolution: 156543.03392800014
- Scale: 5.91657527591555E8
-
Level ID: 1
[ Start Tile, End Tile ]
- Resolution: 78271.51696399994
- Scale: 2.95828763795777E8
-
Level ID: 2
[ Start Tile, End Tile ]
- Resolution: 39135.75848200009
- Scale: 1.47914381897889E8
-
Level ID: 3
[ Start Tile, End Tile ]
- Resolution: 19567.87924099992
- Scale: 7.3957190948944E7
-
Level ID: 4
[ Start Tile, End Tile ]
- Resolution: 9783.93962049996
- Scale: 3.6978595474472E7
-
Level ID: 5
[ Start Tile, End Tile ]
- Resolution: 4891.96981024998
- Scale: 1.8489297737236E7
- Format: MIXED
- Compression Quality: 75.0
- Origin: X: -2.0037508342787E7
Y: 2.0037508342787E7
- Spatial Reference: 102100
(3857)
LatestVCSWkid(0)
Storage Info:
- Storage Format: esriMapCacheStorageModeCompactV2
- Packet Size: 128
Initial Extent:
XMin: -8729669.928565484
YMin: 5049158.720317422
XMax: -8323889.389828709
YMax: 5111235.383161294
Spatial Reference: 102100
(0)
LatestVCSWkid(0)
Full Extent:
XMin: -8747014.878477743
YMin: 4677839.858380003
XMax: -7890265.6420222595
YMax: 5088184.857620003
Spatial Reference: 102100
(0)
LatestVCSWkid(0)
Units: esriMeters
Supported Image Format Types: PNG32,PNG24,PNG,JPG,DIB,TIFF,EMF,PS,PDF,GIF,SVG,SVGZ,BMP
Document Info:
Title:
Author:
Comments:
Subject: 2015 Natural Color aerial imagery of New Jersey (Web Mercator Auxiliary Sphere)
Category:
Keywords: imageryBaseMapsEarthCover,image map,rectified photograph,orthoimage,orthophoto,rectified image,aerial photograph,remote sensing,digital orthoimagery,digital orthophotography,land base,WMTS,New Jersey,NJ,United States of America,USA,US,Bergen County,B
AntialiasingMode: None
TextAntialiasingMode: Force
Supports Dynamic Layers: false
Resampling: false
MaxRecordCount: 1000
MaxSelectionCount: 2000
MaxImageHeight: 4096
MaxImageWidth: 4096
Supported Query Formats: JSON, geoJSON, PBF
Supports Query Data Elements: true
Min Scale: 5.91657527591555E8
Max Scale: 564.24858825
Supports Datum Transformation: true
Child Resources:
Info
Supported Operations:
Export Map
Identify
QueryLegends
QueryDomains
Find
Return Updates