View In:
ArcGIS JavaScript
ArcGIS Online Map Viewer
ArcGIS Earth
ArcGIS Pro
Service Description: <div style='text-align:Left;'><div><p><span>Digital orthophotography of New Jersey, distributed as an ArcGIS REST cached tile service [https://maps.nj.gov/arcgis/rest/services/Basemap/Orthos_Natural_2020_NJ/MapServer/] and as a Tiled Web Map Service (WMTS) [https://maps.nj.gov/arcgis/rest/services/Basemap/Orthos_Natural_2020_NJ_WM/MapServer/WMTS/tile/1.0.0/Basemap_Orthos_Natural_2020_NJ_WM]. These services display the three natural color bands from the 4-band project.The native data set spatial reference system is EPSG::6527 NAD83 (2011) NJ State Plane coordinates, US Survey feet (Transverse Mercator projection). The cache processing has produced continuous tiles in EPSG::3857 WGS84 Web Mercator (auxiliary sphere) coordinates, meters. Multi-spectral digital orthophotography was produced with a 1 foot pixel resolution for the entire state, totaling 8,251 square miles.Digital orthophotography combines the image characteristics of a photograph with the geometric qualities of a map. Each digitized perspective aerial photograph is rectified for camera lens distortion, vertical displacement caused by terrain relief, and variations in aircraft altitude and orientation.</span></p></div></div>
Map Name: Layers
Legend
All Layers and Tables
Layers:
Description: <DIV STYLE="text-align:Left;"><DIV><P><SPAN>Digital orthophotography of New Jersey, distributed as an ArcGIS REST cached tile service [https://maps.nj.gov/arcgis/rest/services/Basemap/Orthos_Natural_2020_NJ/MapServer/] and as a Tiled Web Map Service (WMTS) [https://maps.nj.gov/arcgis/rest/services/Basemap/Orthos_Natural_2020_NJ_WM/MapServer/WMTS/tile/1.0.0/Basemap_Orthos_Natural_2020_NJ_WM]. These services display the three natural color bands from the 4-band project.The native data set spatial reference system is EPSG::6527 NAD83 (2011) NJ State Plane coordinates, US Survey feet (Transverse Mercator projection). The cache processing has produced continuous tiles in EPSG::3857 WGS84 Web Mercator (auxiliary sphere) coordinates, meters. Multi-spectral digital orthophotography was produced with a 1 foot pixel resolution for the entire state, totaling 8,251 square miles.Digital orthophotography combines the image characteristics of a photograph with the geometric qualities of a map. Each digitized perspective aerial photograph is rectified for camera lens distortion, vertical displacement caused by terrain relief, and variations in aircraft altitude and orientation.</SPAN></P></DIV></DIV>
Copyright Text: Project definition, funding requests, and data distribution by NJ Office of Information Technology, Office of GIS.Funding provided by: -NJ Department of Environmental Protection-NJ Office of Information Technology-NJ Department of Military and Veterans Affairs-NJ Office of Homeland Security and Preparedness-NJ Department of TransportationProject administration support provided by NJ Department of Environmental Protection.Contract and procurement by US Geological Survey.Principal operating contractor was Quantum Spatial, Inc. Quality Assurance by Woolpert, Inc, under contract to US Geological Survey.
Spatial Reference:
102100
(3857)
LatestVCSWkid(0)
Single Fused Map Cache: true
Tile Info:
- Height: 256.0
- Width: 256.0
- DPI: 96.0
-
Levels of Detail: 24
-
Level ID: 1
[ Start Tile, End Tile ]
- Resolution: 78271.5169639999
- Scale: 2.95828763795777E8
-
Level ID: 2
[ Start Tile, End Tile ]
- Resolution: 39135.7584820001
- Scale: 1.47914381897889E8
-
Level ID: 3
[ Start Tile, End Tile ]
- Resolution: 19567.8792409999
- Scale: 7.3957190948944E7
-
Level ID: 4
[ Start Tile, End Tile ]
- Resolution: 9783.93962049996
- Scale: 3.6978595474472E7
-
Level ID: 5
[ Start Tile, End Tile ]
- Resolution: 4891.96981024998
- Scale: 1.8489297737236E7
- Format: Mixed
- Compression Quality: 75.0
- Origin: X: -2.0037508342787E7
Y: 2.0037508342787E7
- Spatial Reference: 102100
(3857)
LatestVCSWkid(0)
Storage Info:
- Storage Format: esriMapCacheStorageModeCompactV2
- Packet Size: 128
Initial Extent:
XMin: -8628997.696345875
YMin: 4677839.858380003
XMax: -8008282.8241541255
YMax: 5088184.857620003
Spatial Reference: 102100
(3857)
LatestVCSWkid(0)
Full Extent:
XMin: -8415731.9936
YMin: 4696491.903800003
XMax: -8221548.526900001
YMax: 5069532.812200002
Spatial Reference: 102100
(3857)
LatestVCSWkid(0)
Units: esriMeters
Supported Image Format Types: PNG32,PNG24,PNG,JPG,DIB,TIFF,EMF,PS,PDF,GIF,SVG,SVGZ,BMP
Document Info:
Title: NJ 2020 Natural Color Orthophoto Cached Tile Base Map Service, 1 foot (Web Mercator)
Author:
Comments: <DIV STYLE="text-align:Left;"><DIV><P><SPAN>Digital orthophotography of New Jersey, distributed as an ArcGIS REST cached tile service [https://maps.nj.gov/arcgis/rest/services/Basemap/Orthos_Natural_2020_NJ/MapServer/] and as a Tiled Web Map Service (WMTS) [https://maps.nj.gov/arcgis/rest/services/Basemap/Orthos_Natural_2020_NJ_WM/MapServer/WMTS/tile/1.0.0/Basemap_Orthos_Natural_2020_NJ_WM]. These services display the three natural color bands from the 4-band project.The native data set spatial reference system is EPSG::6527 NAD83 (2011) NJ State Plane coordinates, US Survey feet (Transverse Mercator projection). The cache processing has produced continuous tiles in EPSG::3857 WGS84 Web Mercator (auxiliary sphere) coordinates, meters. Multi-spectral digital orthophotography was produced with a 1 foot pixel resolution for the entire state, totaling 8,251 square miles.Digital orthophotography combines the image characteristics of a photograph with the geometric qualities of a map. Each digitized perspective aerial photograph is rectified for camera lens distortion, vertical displacement caused by terrain relief, and variations in aircraft altitude and orientation.</SPAN></P></DIV></DIV>
Subject: This is the preferred general-use live public access method for 2020 statewide orthophotography published by NJOIT - OGIS. The ArcGIS REST cached tile service and the WMTS are more responsive than the equivalent WMS. However they are slightly less accurate, and display is optimal only at fixed scales. The imagery has been resampled during caching.
Category:
Keywords: 2020,WMS,12 inch orthoimage,rectified photograph,rectified image,orthophoto,natural color orthophoto,orthoimage,image map,aerial photograph,remote sensing,1 foot,aerial photography,digital orthophotography,digital orthoimagery,digital land base,imageryBaseMapsEarthCover,New Jersey,NJ,United States of America,USA,US,Bergen County,Burlington County,East Coast,Cumberland County,Union County,Somerset County,Gloucester County,Warren County,Sussex County,Monmouth County,Mid Atlantic,Middlesex County,Essex County,Ocean County,Salem County,Mercer County,Camden County,Cape May County,Passaic County,Atlantic County,Morris County,Hudson County,Hunterdon County
AntialiasingMode: Fast
TextAntialiasingMode: Force
Supports Dynamic Layers: false
Resampling: false
MaxRecordCount: 2000
MaxSelectionCount: 2000
MaxImageHeight: 4096
MaxImageWidth: 4096
Supported Query Formats: JSON, geoJSON, PBF
Supports Query Data Elements: true
Min Scale: 5.91657527591555E8
Max Scale: 70.5310735
Supports Datum Transformation: true
Child Resources:
Info
Supported Operations:
Export Map
QueryLegends
Return Updates